BEGIN:VCALENDAR
VERSION:2.0
PRODID:-//Balancing 4 Life - ECPv6.15.20//NONSGML v1.0//EN
CALSCALE:GREGORIAN
METHOD:PUBLISH
X-ORIGINAL-URL:https://www.balancing4life.com
X-WR-CALDESC:Events for Balancing 4 Life
REFRESH-INTERVAL;VALUE=DURATION:PT1H
X-Robots-Tag:noindex
X-PUBLISHED-TTL:PT1H
BEGIN:VTIMEZONE
TZID:UTC
BEGIN:STANDARD
TZOFFSETFROM:+0000
TZOFFSETTO:+0000
TZNAME:UTC
DTSTART:20240101T000000
END:STANDARD
END:VTIMEZONE
BEGIN:VEVENT
DTSTART;TZID=UTC:20251025T093000
DTEND;TZID=UTC:20251025T150000
DTSTAMP:20260422T190822
CREATED:20250822T010628Z
LAST-MODIFIED:20250822T011313Z
UID:9073-1761384600-1761404400@www.balancing4life.com
SUMMARY:RETURN TO WHOLENESS - A One Day Retreat for Women
DESCRIPTION:Return to Wholeness is a one day retreat just for women. Designed by 6 experts\, it offers you a multi-faceted path for rebalancing\, deep healing\, and soul-nourishing experiences that will enhance your quality of life. The day is carefully curated to guide you from stress and strain to release and restoration through six practices that nurture the head\, heart\, and spirit: \n\n Internal Family Systems (IFS)\n Yoga and Breathwork\n Holistic Nutrition\n Conscious Skincare\n Reiki\n Sound Healing\n\nEach offering will support the gentle release of unwanted habits\, self-criticism\, and other stressors\, creating space for vitality and a grounded sense of peace. Blending knowledge with hands-on experience\, you will engage all your senses to explore what you need to live more authentically\, all while in a safe\, supportive community of just 20 female participants.  A healthy\, delicious lunch and beverages are included. \n 
URL:https://www.balancing4life.com/event/return-to-wholeness-a-one-day-retreat-for-women/
LOCATION:Balancing 4 Life\, 495 Main Street\, Suite 205\, Armonk\, 10504\, United States
CATEGORIES:Return to Wholeness Retreat
ATTACH;FMTTYPE=image/png:https://www.balancing4life.com/wp-content/uploads/2025/08/Return-to-Wholeness-Logo-for-Oct.-25th-Retreat.avif
ORGANIZER;CN="Balancing 4 Life":MAILTO:balancing4lifeusa@gmail.com
END:VEVENT
END:VCALENDAR