BEGIN:VCALENDAR
VERSION:2.0
PRODID:-//Balancing 4 Life - ECPv6.15.20//NONSGML v1.0//EN
CALSCALE:GREGORIAN
METHOD:PUBLISH
X-WR-CALNAME:Balancing 4 Life
X-ORIGINAL-URL:https://www.balancing4life.com
X-WR-CALDESC:Events for Balancing 4 Life
REFRESH-INTERVAL;VALUE=DURATION:PT1H
X-Robots-Tag:noindex
X-PUBLISHED-TTL:PT1H
BEGIN:VTIMEZONE
TZID:America/New_York
BEGIN:DAYLIGHT
TZOFFSETFROM:-0500
TZOFFSETTO:-0400
TZNAME:EDT
DTSTART:20250309T070000
END:DAYLIGHT
BEGIN:STANDARD
TZOFFSETFROM:-0400
TZOFFSETTO:-0500
TZNAME:EST
DTSTART:20251102T060000
END:STANDARD
BEGIN:DAYLIGHT
TZOFFSETFROM:-0500
TZOFFSETTO:-0400
TZNAME:EDT
DTSTART:20260308T070000
END:DAYLIGHT
BEGIN:STANDARD
TZOFFSETFROM:-0400
TZOFFSETTO:-0500
TZNAME:EST
DTSTART:20261101T060000
END:STANDARD
BEGIN:DAYLIGHT
TZOFFSETFROM:-0500
TZOFFSETTO:-0400
TZNAME:EDT
DTSTART:20270314T070000
END:DAYLIGHT
BEGIN:STANDARD
TZOFFSETFROM:-0400
TZOFFSETTO:-0500
TZNAME:EST
DTSTART:20271107T060000
END:STANDARD
END:VTIMEZONE
BEGIN:VEVENT
DTSTART;TZID=America/New_York:20260421T084500
DTEND;TZID=America/New_York:20260421T094500
DTSTAMP:20260421T141139
CREATED:20260312T004750Z
LAST-MODIFIED:20260312T004750Z
UID:10259-1776761100-1776764700@www.balancing4life.com
SUMMARY:Anusara style Yoga with Present Wisdom
DESCRIPTION:Alka Kaminer and other Anusara style yoga teachers from Present Wisdom lead morning in-person yoga classes in Armonk. Enjoy a quality small class yoga experience with superb supervisions while surrounded by the tranquil setting and the healing energy of Balancing 4 Life restorative wellness center. \nClass size limited to 14. Cost: $30  Link directs you to Present Wisdom website class schedule page to choose your class day and pre-pay.
URL:https://www.balancing4life.com/event/anusara-style-yoga-with-present-wisdom-7/
LOCATION:Balancing 4 Life\, 495 Main Street\, Suite 205\, Armonk\, 10504\, United States
CATEGORIES:Yoga Class Present Wisdom
ATTACH;FMTTYPE=image/png:https://www.balancing4life.com/wp-content/uploads/2026/03/PresentWisdom-Logo-2021-v2-spaced-r.avif
ORGANIZER;CN="Present Wisdom":MAILTO:alka@presentwisdom.com
END:VEVENT
BEGIN:VEVENT
DTSTART;TZID=America/New_York:20260423T093000
DTEND;TZID=America/New_York:20260423T104500
DTSTAMP:20260421T141139
CREATED:20260312T003325Z
LAST-MODIFIED:20260312T004212Z
UID:10250-1776936600-1776941100@www.balancing4life.com
SUMMARY:Anusara style Yoga Class with Present Wisdom
DESCRIPTION:Alka Kaminer and other Anusara style yoga teachers from Present Wisdom lead morning in-person yoga classes in Armonk. Enjoy a quality small class yoga experience with superb supervisions while surrounded by the tranquil setting and the healing energy of Balancing 4 Life restorative wellness center. \nClass size limited to 14. Cost: $30  Link directs you to Present Wisdom website class schedule page to choose your class day and pre-pay.
URL:https://www.balancing4life.com/event/anusara-style-yoga-class-with-present-wisdom-2/
LOCATION:Balancing 4 Life\, 495 Main Street\, Suite 205\, Armonk\, 10504\, United States
CATEGORIES:Yoga Class Present Wisdom
ATTACH;FMTTYPE=image/png:https://www.balancing4life.com/wp-content/uploads/2026/03/PresentWisdom-Logo-2021-v2-spaced-r.avif
ORGANIZER;CN="Present Wisdom":MAILTO:alka@presentwisdom.com
END:VEVENT
BEGIN:VEVENT
DTSTART;TZID=America/New_York:20260424T084500
DTEND;TZID=America/New_York:20260424T094500
DTSTAMP:20260421T141139
CREATED:20260312T004514Z
LAST-MODIFIED:20260312T004534Z
UID:10257-1777020300-1777023900@www.balancing4life.com
SUMMARY:Anusara style Yoga with Present Wisdom
DESCRIPTION:Alka Kaminer and other Anusara style yoga teachers from Present Wisdom lead morning in-person yoga classes in Armonk. Enjoy a quality small class yoga experience with superb supervisions while surrounded by the tranquil setting and the healing energy of Balancing 4 Life restorative wellness center. \nClass size limited to 14. Cost: $30  Link directs you to Present Wisdom website class schedule page to choose your class day and pre-pay.
URL:https://www.balancing4life.com/event/anusara-style-yoga-with-present-wisdom-6/
LOCATION:Balancing 4 Life\, 495 Main Street\, Suite 205\, Armonk\, 10504\, United States
CATEGORIES:Yoga Class Present Wisdom
ATTACH;FMTTYPE=image/png:https://www.balancing4life.com/wp-content/uploads/2026/03/PresentWisdom-Logo-2021-v2-spaced-r.avif
ORGANIZER;CN="Present Wisdom":MAILTO:alka@presentwisdom.com
END:VEVENT
BEGIN:VEVENT
DTSTART;TZID=America/New_York:20260428T084500
DTEND;TZID=America/New_York:20260428T094500
DTSTAMP:20260421T141139
CREATED:20260312T004951Z
LAST-MODIFIED:20260312T004951Z
UID:10261-1777365900-1777369500@www.balancing4life.com
SUMMARY:Anusara style Yoga with Present Wisdom
DESCRIPTION:Alka Kaminer and other Anusara style yoga teachers from Present Wisdom lead morning in-person yoga classes in Armonk. Enjoy a quality small class yoga experience with superb supervisions while surrounded by the tranquil setting and the healing energy of Balancing 4 Life restorative wellness center. \nClass size limited to 14. Cost: $30  Link directs you to Present Wisdom website class schedule page to choose your class day and pre-pay.
URL:https://www.balancing4life.com/event/anusara-style-yoga-with-present-wisdom-8/
LOCATION:Balancing 4 Life\, 495 Main Street\, Suite 205\, Armonk\, 10504\, United States
CATEGORIES:Yoga Class Present Wisdom
ATTACH;FMTTYPE=image/png:https://www.balancing4life.com/wp-content/uploads/2026/03/PresentWisdom-Logo-2021-v2-spaced-r.avif
ORGANIZER;CN="Present Wisdom":MAILTO:alka@presentwisdom.com
END:VEVENT
BEGIN:VEVENT
DTSTART;TZID=America/New_York:20260430T093000
DTEND;TZID=America/New_York:20260430T104500
DTSTAMP:20260421T141139
CREATED:20260312T005154Z
LAST-MODIFIED:20260312T005154Z
UID:10263-1777541400-1777545900@www.balancing4life.com
SUMMARY:Anusara style Yoga Class with Present Wisdom
DESCRIPTION:Alka Kaminer and other Anusara style yoga teachers from Present Wisdom lead morning in-person yoga classes in Armonk. Enjoy a quality small class yoga experience with superb supervisions while surrounded by the tranquil setting and the healing energy of Balancing 4 Life restorative wellness center. \nClass size limited to 14. Cost: $30  Link directs you to Present Wisdom website class schedule page to choose your class day and pre-pay.
URL:https://www.balancing4life.com/event/anusara-style-yoga-class-with-present-wisdom-3/
LOCATION:Balancing 4 Life\, 495 Main Street\, Suite 205\, Armonk\, 10504\, United States
CATEGORIES:Yoga Class Present Wisdom
ATTACH;FMTTYPE=image/png:https://www.balancing4life.com/wp-content/uploads/2026/03/PresentWisdom-Logo-2021-v2-spaced-r.avif
ORGANIZER;CN="Present Wisdom":MAILTO:alka@presentwisdom.com
END:VEVENT
END:VCALENDAR