BEGIN:VCALENDAR
VERSION:2.0
PRODID:-//Balancing 4 Life - ECPv6.15.20//NONSGML v1.0//EN
CALSCALE:GREGORIAN
METHOD:PUBLISH
X-ORIGINAL-URL:https://www.balancing4life.com
X-WR-CALDESC:Events for Balancing 4 Life
REFRESH-INTERVAL;VALUE=DURATION:PT1H
X-Robots-Tag:noindex
X-PUBLISHED-TTL:PT1H
BEGIN:VTIMEZONE
TZID:America/New_York
BEGIN:DAYLIGHT
TZOFFSETFROM:-0500
TZOFFSETTO:-0400
TZNAME:EDT
DTSTART:20250309T070000
END:DAYLIGHT
BEGIN:STANDARD
TZOFFSETFROM:-0400
TZOFFSETTO:-0500
TZNAME:EST
DTSTART:20251102T060000
END:STANDARD
BEGIN:DAYLIGHT
TZOFFSETFROM:-0500
TZOFFSETTO:-0400
TZNAME:EDT
DTSTART:20260308T070000
END:DAYLIGHT
BEGIN:STANDARD
TZOFFSETFROM:-0400
TZOFFSETTO:-0500
TZNAME:EST
DTSTART:20261101T060000
END:STANDARD
BEGIN:DAYLIGHT
TZOFFSETFROM:-0500
TZOFFSETTO:-0400
TZNAME:EDT
DTSTART:20270314T070000
END:DAYLIGHT
BEGIN:STANDARD
TZOFFSETFROM:-0400
TZOFFSETTO:-0500
TZNAME:EST
DTSTART:20271107T060000
END:STANDARD
END:VTIMEZONE
BEGIN:VEVENT
DTSTART;TZID=America/New_York:20260131T120000
DTEND;TZID=America/New_York:20260131T160000
DTSTAMP:20260421T210413
CREATED:20260107T014407Z
LAST-MODIFIED:20260107T015329Z
UID:9710-1769860800-1769875200@www.balancing4life.com
SUMMARY:Energy Management for Empowered Living
DESCRIPTION:Anne Bentzen\, owner of Balancing 4 Life\, leads this essential in-person seminar for developing your personal energy management.  Empowered Living is a choice available to everyone. Empowered living begins with presence.  Learn the fundamentals of energy and conscious creation as a co-creator.  During this seminar you will learn the dynamics of energy and how to take responsibility for your energy field. You will learn how to create and manage healthy boundaries for empowered living. Gain strategies to develop your inner awareness and heart coherence to create the future you want to live.  This seminar is packed with information and tools for reshaping your perspective of yourself\, your relationships and how you connect to the world.
URL:https://www.balancing4life.com/event/energy-management-for-empowered-living/
LOCATION:Balancing 4 Life\, 495 Main Street\, Suite 205\, Armonk\, 10504\, United States
CATEGORIES:Workshop
ATTACH;FMTTYPE=image/png:https://www.balancing4life.com/wp-content/uploads/2022/05/unnamed.png
ORGANIZER;CN="Balancing 4 Life":MAILTO:balancing4lifeusa@gmail.com
END:VEVENT
END:VCALENDAR