BEGIN:VCALENDAR
VERSION:2.0
PRODID:-//Balancing 4 Life - ECPv6.15.20//NONSGML v1.0//EN
CALSCALE:GREGORIAN
METHOD:PUBLISH
X-WR-CALNAME:Balancing 4 Life
X-ORIGINAL-URL:https://www.balancing4life.com
X-WR-CALDESC:Events for Balancing 4 Life
REFRESH-INTERVAL;VALUE=DURATION:PT1H
X-Robots-Tag:noindex
X-PUBLISHED-TTL:PT1H
BEGIN:VTIMEZONE
TZID:UTC
BEGIN:STANDARD
TZOFFSETFROM:+0000
TZOFFSETTO:+0000
TZNAME:UTC
DTSTART:20240101T000000
END:STANDARD
END:VTIMEZONE
BEGIN:VEVENT
DTSTART;TZID=UTC:20250607T100000
DTEND;TZID=UTC:20250607T120000
DTSTAMP:20260422T113937
CREATED:20250517T064033Z
LAST-MODIFIED:20250517T064033Z
UID:8690-1749290400-1749297600@www.balancing4life.com
SUMMARY:Releasing Emotional Baggage with Jessica Lawrence
DESCRIPTION:Energy healer\, psychic and medium Jessica Lawrence teaches participants how to release emotional baggage from family\, friends\, and love relationships past and present.  Know that some emotional wounds can be held within your cells often for decades.  When unaddressed\, this emotional residue can lead to both physical and emotional dis-ease or worse.   \nThrough energy healing work\, toning and meditation Jessica assists participants in releasing emotional energetic etheric chords remaining from old emotional ties that no longer serve their highest good.  Feel empowered as you learn how to set healthy boundaries that will bring you freedom and joy.  Love yourself enough to say\, “No”. 
URL:https://www.balancing4life.com/event/releasing-emotional-baggage-with-jessica-lawrence/
LOCATION:Balancing 4 Life\, 495 Main Street\, Suite 205\, Armonk\, 10504\, United States
CATEGORIES:Workshop
ATTACH;FMTTYPE=image/jpeg:https://www.balancing4life.com/wp-content/uploads/2022/04/Opening-to-Freedom.jpg
ORGANIZER;CN="Balancing 4 Life":MAILTO:balancing4lifeusa@gmail.com
END:VEVENT
END:VCALENDAR