BEGIN:VCALENDAR
VERSION:2.0
PRODID:-//Balancing 4 Life - ECPv6.15.20//NONSGML v1.0//EN
CALSCALE:GREGORIAN
METHOD:PUBLISH
X-ORIGINAL-URL:https://www.balancing4life.com
X-WR-CALDESC:Events for Balancing 4 Life
REFRESH-INTERVAL;VALUE=DURATION:PT1H
X-Robots-Tag:noindex
X-PUBLISHED-TTL:PT1H
BEGIN:VTIMEZONE
TZID:UTC
BEGIN:STANDARD
TZOFFSETFROM:+0000
TZOFFSETTO:+0000
TZNAME:UTC
DTSTART:20240101T000000
END:STANDARD
END:VTIMEZONE
BEGIN:VEVENT
DTSTART;TZID=UTC:20250426T100000
DTEND;TZID=UTC:20250426T160000
DTSTAMP:20260422T163239
CREATED:20250205T214018Z
LAST-MODIFIED:20250218T220845Z
UID:7863-1745661600-1745683200@www.balancing4life.com
SUMMARY:Develop Your Psychic and Clairvoyant Abilities with Lindsey Sass
DESCRIPTION:Lindsey Sass\, founder of the NJ Healing Center\, spiritual counselor\, psychic\, medium\, clairvoyant\, certified hypotist\, LMT\, CST and author leads this full day workshop from 10 am – 4 pm to develop your psychic and clairvoyant abilities. This is an extradinary opportunity for your personal growth and expansion. Through ancient sacred Tibetan and Buddhist meditations\, energy work and use of her extraordinary gifts she received following an NDE in 1998.  Lindsey enhances your ability for second sight and leads participants to connect with the other side of the veil and develop their spiritual connection. Manual included. \nClass Size: MInimum 5; Maximum 10      Cost:  $125
URL:https://www.balancing4life.com/event/develop-your-psychic-and-clairvoyant-abilities-with-lindsey-sass/
LOCATION:Balancing 4 Life\, 495 Main Street\, Suite 205\, Armonk\, 10504\, United States
CATEGORIES:Workshop
ATTACH;FMTTYPE=image/jpeg:https://www.balancing4life.com/wp-content/uploads/2025/02/LindseyPic-2-1-e1738773598572.avif
ORGANIZER;CN="Balancing 4 Life":MAILTO:balancing4lifeusa@gmail.com
END:VEVENT
END:VCALENDAR