BEGIN:VCALENDAR
VERSION:2.0
PRODID:-//Balancing 4 Life - ECPv6.15.20//NONSGML v1.0//EN
CALSCALE:GREGORIAN
METHOD:PUBLISH
X-ORIGINAL-URL:https://www.balancing4life.com
X-WR-CALDESC:Events for Balancing 4 Life
REFRESH-INTERVAL;VALUE=DURATION:PT1H
X-Robots-Tag:noindex
X-PUBLISHED-TTL:PT1H
BEGIN:VTIMEZONE
TZID:America/New_York
BEGIN:DAYLIGHT
TZOFFSETFROM:-0500
TZOFFSETTO:-0400
TZNAME:EDT
DTSTART:20240310T070000
END:DAYLIGHT
BEGIN:STANDARD
TZOFFSETFROM:-0400
TZOFFSETTO:-0500
TZNAME:EST
DTSTART:20241103T060000
END:STANDARD
BEGIN:DAYLIGHT
TZOFFSETFROM:-0500
TZOFFSETTO:-0400
TZNAME:EDT
DTSTART:20250309T070000
END:DAYLIGHT
BEGIN:STANDARD
TZOFFSETFROM:-0400
TZOFFSETTO:-0500
TZNAME:EST
DTSTART:20251102T060000
END:STANDARD
BEGIN:DAYLIGHT
TZOFFSETFROM:-0500
TZOFFSETTO:-0400
TZNAME:EDT
DTSTART:20260308T070000
END:DAYLIGHT
BEGIN:STANDARD
TZOFFSETFROM:-0400
TZOFFSETTO:-0500
TZNAME:EST
DTSTART:20261101T060000
END:STANDARD
END:VTIMEZONE
BEGIN:VEVENT
DTSTART;TZID=America/New_York:20251114T090000
DTEND;TZID=America/New_York:20251114T180000
DTSTAMP:20260421T144633
CREATED:20251020T164132Z
LAST-MODIFIED:20251020T164132Z
UID:9500-1763110800-1763143200@www.balancing4life.com
SUMMARY:WELLNESS EVALUATIONS with Dr. Bear Walker
DESCRIPTION:Balancing 4 Life is hosting Dr. Bear Walker\, Holistic Practitioner to provide monthly Wellness Evaluations. Dr. Walker is a Naturopathic physician with a PhD in Biomolecular Biology who developed a Bio-Tracker system while working at NASA to help him to scientifically assess 30 systems of the body with an additional 35\,000 benchmarks possible. This cutting edge technology allows Dr. Walker to scientifically identify\, measure and document imbalances and track overall progress. \nWith over 35 years of practice as a Holistic Practitioner\, Dr. Bear Walker is beloved by his many patients from NYC to Westchester and CT.  Dr. Walker’s primary practice is located outside of Hartford\, CT. We are fortunate to welcome Bear to our community with his wealth of knowledge in Alternative Medicine. You will find on meeting Bear that he offers a heartfelt concern for your whole being and desires to assist you in your personal growth physically\, emotionally\, mentally and spiritually. Natural remedies made be recommended at the conclusion of your appointment to address the imbalances identified during your evaluation. \nCOST: $250  Preferred payments will be accepted onsite by cash\, check\, or Zelle. Credit card payments will include the required processing fee. 30 minute appointments available for $150. \nFREE BEMER THERAPY AVAILABLE:  Free BEMER treatments with Anne Bentzen will be available for clients either before or following their appointment with Bear Walker. \nREGISTER: Limited  one hour slots are available per day. Please review the available slots below and click on the button to sign up. Thank you! \nABOUT Dr. Bear Walker:   Bear Walker founded the Earth Medicine Institute in 1996 to teach doctors and lay people globally on many topics to improve health from cellular biology\, the eight systems of the body to medical anthropology.  Coupled with his vast knowledge of the workings of the body and ability to draw on his ancient\, native wisdom of treating the body as a whole (body\, mind and spirit)\, Bear is in a category all his own. Dr. Bear Walker is more than a doctor—he is a visionary healer\, educator\, and advocate for systemic change in wellness and healthcare. As the founder of Circle of Health\, Dr. Walker has dedicated his life to weaving the timeless wisdom of his Anishinaabe heritage with the transformative power of modern healing technologies. Through this fusion\, he has created a holistic approach to health that addresses the physical\, emotional\, mental\, and spiritual dimensions of the human experience. \nBear Walker is an Anishinaabe medicine man raised in Thunder Bay area of Northern Michigan. He offers the sacred ceremonies and teachings of his First Nation to non-native peoples that he learned from his grandfather.  His goal is to inspire people will learn how to live in balance with Nature with love\, forgiveness and respect. Bear specializes in cellular health and overall well-being. \nGo to www.circleofhealth.com to learn more about Dr. Bear Walker. \nDisclaimer:  Balancing 4 Life\, LLC provides space for Dr. Bear Walker to conduct his wellness evaluations but has no legal affiliation with Dr. Walker.  All health advice\, evaluations and recommendations of natural remedies are soley provided by Dr. Walker.
URL:https://www.balancing4life.com/event/wellness-evaluations-with-dr-bear-walker-5/
LOCATION:Balancing 4 Life\, 495 Main Street\, Suite 205\, Armonk\, 10504\, United States
CATEGORIES:Wellness Evaluations with Dr. Bear Walker
ATTACH;FMTTYPE=image/jpeg:https://www.balancing4life.com/wp-content/uploads/2025/04/Dr.Bear-Walker-400x400-1.avif
ORGANIZER;CN="Balancing 4 Life":MAILTO:balancing4lifeusa@gmail.com
END:VEVENT
END:VCALENDAR