BEGIN:VCALENDAR
VERSION:2.0
PRODID:-//Balancing 4 Life - ECPv6.15.20//NONSGML v1.0//EN
CALSCALE:GREGORIAN
METHOD:PUBLISH
X-WR-CALNAME:Balancing 4 Life
X-ORIGINAL-URL:https://www.balancing4life.com
X-WR-CALDESC:Events for Balancing 4 Life
REFRESH-INTERVAL;VALUE=DURATION:PT1H
X-Robots-Tag:noindex
X-PUBLISHED-TTL:PT1H
BEGIN:VTIMEZONE
TZID:UTC
BEGIN:STANDARD
TZOFFSETFROM:+0000
TZOFFSETTO:+0000
TZNAME:UTC
DTSTART:20240101T000000
END:STANDARD
END:VTIMEZONE
BEGIN:VEVENT
DTSTART;TZID=UTC:20250817T130000
DTEND;TZID=UTC:20250817T143000
DTSTAMP:20260421T205707
CREATED:20250709T173003Z
LAST-MODIFIED:20250709T173003Z
UID:8898-1755435600-1755441000@www.balancing4life.com
SUMMARY:Stargate Circle Meditation - Global Live-Stream
DESCRIPTION:Stargate Circles broadcast global meditations live-streamed and/or replayed from Prageet Harris and Jules Conard to support expansion of your consciousness. When you join in-person locally with others to experience these meditations\, your energy is magnified because we are working in the quantum field. \nThe profound work of the Stargate has created waves of light to help raise the vibrational frequency of humanity and the planet.  Every time we connect virtually in meditation to raise our vibration we are helping the collective as well.  Join the Stargate family and become the change you wish to see in the world! \nFollowing the meditation share or listen to community experiences of others. Experience your multi-dimensional self like never before. This is the leading edge of consciousness expansion. We are at the tipping point. Now is the time to create a new future for ourselves and humanity where all are valued and all have enough.  Be part of the change! \nChairs\, backjack floor chairs\, yoga mats\, cushions\, and blankets available. Bring your own pillow\, if desired.
URL:https://www.balancing4life.com/event/stargate-circle-meditation-global-live-stream/
LOCATION:Balancing 4 Life\, 495 Main Street\, Suite 205\, Armonk\, 10504\, United States
CATEGORIES:Stargate Circle Meditations
ATTACH;FMTTYPE=image/png:https://www.balancing4life.com/wp-content/uploads/2023/11/Stargate-Circle-of-Humanity.png
ORGANIZER;CN="Balancing 4 Life":MAILTO:balancing4lifeusa@gmail.com
END:VEVENT
BEGIN:VEVENT
DTSTART;TZID=UTC:20250323T130000
DTEND;TZID=UTC:20250323T143000
DTSTAMP:20260421T205707
CREATED:20250318T154903Z
LAST-MODIFIED:20250318T154944Z
UID:8431-1742734800-1742740200@www.balancing4life.com
SUMMARY:Stargate Circle Meditation - Expand your Cosmic Superconsicous
DESCRIPTION:RIDE THE ELEVATOR TO YOUR COSMIC SUPERCONSCIOUSNESS                                                                                               FREE Global Meditation – Be part of a global community!! \nStargate Circles broadcast global meditations live-streamed and/or replayed from Prageet Harris and Jules Conard to support expansion of your consciousness. When you join in-person locally with others to experience these meditations\, your energy is magnified because we are working in the quantum field.  Arrive at 12:50 pm\, meet people and get settled for a beautiful experience. Meditation begins at 1 pm. \nThe profound work of the Stargate has created waves of light  to help raise the vibrational frequency of humanity and the planet.  Every time we connect virtually in meditation to raise our vibration we are helping the collective as well.  Join the Stargate family and become the change you wish to see in the world! \nJoin: Stargate Circles today. \nFollowing the meditation share or listen to community experiences of others. Experience your multi-dimensional self like never before. This is the leading edge of consciousness expansion. We are at the tipping point. Now is the time to create a new future for ourselves and humanity where all are valued and all have enough.  Be part of the change!
URL:https://www.balancing4life.com/event/stargate-circle-meditation-expand-your-cosmic-superconsicous/
LOCATION:Balancing 4 Life\, 495 Main Street\, Suite 205\, Armonk\, 10504\, United States
CATEGORIES:Stargate Circle Meditations
ATTACH;FMTTYPE=image/jpeg:https://www.balancing4life.com/wp-content/uploads/2024/05/Stargate-with-Bridge.jpg
ORGANIZER;CN="Balancing 4 Life":MAILTO:balancing4lifeusa@gmail.com
END:VEVENT
END:VCALENDAR