BEGIN:VCALENDAR
VERSION:2.0
PRODID:-//Balancing 4 Life - ECPv6.15.20//NONSGML v1.0//EN
CALSCALE:GREGORIAN
METHOD:PUBLISH
X-WR-CALNAME:Balancing 4 Life
X-ORIGINAL-URL:https://www.balancing4life.com
X-WR-CALDESC:Events for Balancing 4 Life
REFRESH-INTERVAL;VALUE=DURATION:PT1H
X-Robots-Tag:noindex
X-PUBLISHED-TTL:PT1H
BEGIN:VTIMEZONE
TZID:America/New_York
BEGIN:DAYLIGHT
TZOFFSETFROM:-0500
TZOFFSETTO:-0400
TZNAME:EDT
DTSTART:20240310T070000
END:DAYLIGHT
BEGIN:STANDARD
TZOFFSETFROM:-0400
TZOFFSETTO:-0500
TZNAME:EST
DTSTART:20241103T060000
END:STANDARD
BEGIN:DAYLIGHT
TZOFFSETFROM:-0500
TZOFFSETTO:-0400
TZNAME:EDT
DTSTART:20250309T070000
END:DAYLIGHT
BEGIN:STANDARD
TZOFFSETFROM:-0400
TZOFFSETTO:-0500
TZNAME:EST
DTSTART:20251102T060000
END:STANDARD
BEGIN:DAYLIGHT
TZOFFSETFROM:-0500
TZOFFSETTO:-0400
TZNAME:EDT
DTSTART:20260308T070000
END:DAYLIGHT
BEGIN:STANDARD
TZOFFSETFROM:-0400
TZOFFSETTO:-0500
TZNAME:EST
DTSTART:20261101T060000
END:STANDARD
BEGIN:DAYLIGHT
TZOFFSETFROM:-0500
TZOFFSETTO:-0400
TZNAME:EDT
DTSTART:20270314T070000
END:DAYLIGHT
BEGIN:STANDARD
TZOFFSETFROM:-0400
TZOFFSETTO:-0500
TZNAME:EST
DTSTART:20271107T060000
END:STANDARD
END:VTIMEZONE
BEGIN:VTIMEZONE
TZID:UTC
BEGIN:STANDARD
TZOFFSETFROM:+0000
TZOFFSETTO:+0000
TZNAME:UTC
DTSTART:20240101T000000
END:STANDARD
END:VTIMEZONE
BEGIN:VTIMEZONE
TZID:America/New_York
BEGIN:DAYLIGHT
TZOFFSETFROM:-0500
TZOFFSETTO:-0400
TZNAME:EDT
DTSTART:20240310T070000
END:DAYLIGHT
BEGIN:STANDARD
TZOFFSETFROM:-0400
TZOFFSETTO:-0500
TZNAME:EST
DTSTART:20241103T060000
END:STANDARD
BEGIN:DAYLIGHT
TZOFFSETFROM:-0500
TZOFFSETTO:-0400
TZNAME:EDT
DTSTART:20250309T070000
END:DAYLIGHT
BEGIN:STANDARD
TZOFFSETFROM:-0400
TZOFFSETTO:-0500
TZNAME:EST
DTSTART:20251102T060000
END:STANDARD
BEGIN:DAYLIGHT
TZOFFSETFROM:-0500
TZOFFSETTO:-0400
TZNAME:EDT
DTSTART:20260308T070000
END:DAYLIGHT
BEGIN:STANDARD
TZOFFSETFROM:-0400
TZOFFSETTO:-0500
TZNAME:EST
DTSTART:20261101T060000
END:STANDARD
END:VTIMEZONE
BEGIN:VEVENT
DTSTART;TZID=America/New_York:20260410T190000
DTEND;TZID=America/New_York:20260410T203000
DTSTAMP:20260421T172030
CREATED:20260209T215155Z
LAST-MODIFIED:20260308T214122Z
UID:9957-1775847600-1775853000@www.balancing4life.com
SUMMARY:Sound Bath And Reiki Healing
DESCRIPTION:Sound Healer\, Alejandro Fuentes and Anne Bentzen\, Jikiden Reiki Shihan combine talents to offer a meditative healing experience with sound and Reiki. Enjoy mixed percussion sounds including didgeridoo\, flutes\, drumming\, metal and crystal singing bowls\, crystal pyramids and more while being guided to let your body release.  Receive Reiki to facilitate healing\, your energy centers will open and respond to the sound frequencies restoring balance and inner harmony. Experience lying down or seated\, your choice. \nCost: $40 \nCapacity: 12 \nMaterials provided:  Yoga mats\, cushions\, blankets\, back jack chairs. Bring your own pillow. 
URL:https://www.balancing4life.com/event/sound-bath-and-reiki-healing-2/
CATEGORIES:Sound Healing
END:VEVENT
BEGIN:VEVENT
DTSTART;TZID=America/New_York:20260206T190000
DTEND;TZID=America/New_York:20260206T203000
DTSTAMP:20260421T172030
CREATED:20260206T015146Z
LAST-MODIFIED:20260206T015146Z
UID:9892-1770404400-1770409800@www.balancing4life.com
SUMMARY:Sound Bath and Reiki Healing
DESCRIPTION:Restore your energy flow! \nRelax\, Release & Receive \nwith Sound vibrations and Reiki\nJoin Alejandro Fuentes and Anne Bentzen for their monthly sound bath offering being held usually the first Friday of each month.  Sound Healer\, Alejandro Fuentes and Anne Bentzen\, Jikiden Reiki Shihan offer monthly you a  meditative healing experience with sound and Reiki. Enjoy mixed percussion sounds including the Australian Aborigenese didgeridoo\, flutes\, drumming and singing bowls while being guided to let your body release. Receiving Reiki will facilitate healing and allow your body to open to the sound frequencies restoring balance and inner harmony. Experience lying down or seated\, your choice. \nCost: $40    Capacity: 12 for Yoga mats; 2 Zero gravity chairs \nMaterials provided:  Yoga mats\, cushions\, blankets\, backjack chairs. Bring your own pillow. 
URL:https://www.balancing4life.com/event/sound-bath-and-reiki-healing/
LOCATION:Balancing 4 Life\, 495 Main Street\, Suite 205\, Armonk\, 10504\, United States
CATEGORIES:Sound Healing
ATTACH;FMTTYPE=image/jpeg:https://www.balancing4life.com/wp-content/uploads/2025/10/53eb5d01-0db1-4bbc-a842-0e8d0b7b5556-1Anne-and-Alejandro.avif
ORGANIZER;CN="Balancing 4 Life":MAILTO:balancing4lifeusa@gmail.com
END:VEVENT
BEGIN:VEVENT
DTSTART;TZID=America/New_York:20260109T190000
DTEND;TZID=America/New_York:20260109T203000
DTSTAMP:20260421T172030
CREATED:20251213T200347Z
LAST-MODIFIED:20251213T200347Z
UID:9645-1767985200-1767990600@www.balancing4life.com
SUMMARY:Sound Bath with Reiki Healing
DESCRIPTION:Sound Healer\, Alejandro Fuentes and Anne Bentzen\, Jikiden Reiki Shihan offer a meditative healing experience with sound and Reiki. Enjoy mixed percussion sounds including didgeridoo\, flutes\, drumming\, metal and crystal singing bowls\, crystal pyramids and more while being guided to let your body release.  As you receive Reiki to facilitate healing\, your energy centers will open and respond to the sound frequencies restoring balance and inner harmony. Experience lying down or seated\, your choice. \nCost: $40 \nCapacity: 12 \nMaterials provided:  Yoga mats\, cushions\, blankets\, back jack chairs. Bring your own pillow. 
URL:https://www.balancing4life.com/event/sound-bath-with-reiki-healing-5/
LOCATION:Balancing 4 Life\, 495 Main Street\, Suite 205\, Armonk\, 10504\, United States
CATEGORIES:Sound Healing
ATTACH;FMTTYPE=image/jpeg:https://www.balancing4life.com/wp-content/uploads/2025/10/53eb5d01-0db1-4bbc-a842-0e8d0b7b5556-1Anne-and-Alejandro.avif
ORGANIZER;CN="Balancing 4 Life":MAILTO:balancing4lifeusa@gmail.com
END:VEVENT
BEGIN:VEVENT
DTSTART;TZID=America/New_York:20251212T190000
DTEND;TZID=America/New_York:20251212T203000
DTSTAMP:20260421T172030
CREATED:20251020T155935Z
LAST-MODIFIED:20251201T234315Z
UID:9483-1765566000-1765571400@www.balancing4life.com
SUMMARY:Sound Bath with Reiki Healing
DESCRIPTION:December: Special 12:12 portal meditation for rebalancing and integration of masculine and feminine energies on this special day.  Sound Healer\, Alejandro Fuentes and Anne Bentzen\, Jikiden Reiki Shihan offer monthly meditative healing experience with sound and Reiki. Enjoy mixed percussion sounds including didgeridoo\, flutes\, drumming and bowls while being guided to let your body release.  As you receive Reiki to facilitate healing\, your energy centers will open and respond to the sound frequencies restoring balance and inner harmony. Experience lying down or seated\, your choice. \nCost: $40 \nCapacity: 12 \nMaterials provided:  Yoga mats\, cushions\, blankets\, backjack chairs. Bring your own pillow.  \nSPECIAL NOTE: Alejandro will not be performing on Dec. 12 as he is visiting his parents in Chile. He will return for the Winter Solstice.
URL:https://www.balancing4life.com/event/sound-bath-with-reiki-healing-4/
LOCATION:Balancing 4 Life\, 495 Main Street\, Suite 205\, Armonk\, 10504\, United States
CATEGORIES:Sound Healing
ATTACH;FMTTYPE=image/jpeg:https://www.balancing4life.com/wp-content/uploads/2025/10/53eb5d01-0db1-4bbc-a842-0e8d0b7b5556-1Anne-and-Alejandro.avif
ORGANIZER;CN="Balancing 4 Life":MAILTO:balancing4lifeusa@gmail.com
END:VEVENT
BEGIN:VEVENT
DTSTART;TZID=America/New_York:20251107T190000
DTEND;TZID=America/New_York:20251107T203000
DTSTAMP:20260421T172030
CREATED:20251020T155751Z
LAST-MODIFIED:20251020T155751Z
UID:9480-1762542000-1762547400@www.balancing4life.com
SUMMARY:Sound Bath with Reiki Healing
DESCRIPTION:Sound Healer\, Alejandro Fuentes and Anne Bentzen\, Jikiden Reiki Shihan offer a meditative healing experience with sound and Reiki. Enjoy mixed percussion sounds including didgeridoo\, flutes\, drumming and bowls while being guided to let your body release.  As you receive Reiki to facilitate healing\, your energy centers will open and respond to the sound frequencies restoring balance and inner harmony. Experience lying down or seated\, your choice. \nCost: $40 \nCapacity: 12 \nMaterials provided:  Yoga mats\, cushions\, blankets\, backjack chairs. Bring your own pillow. 
URL:https://www.balancing4life.com/event/sound-bath-with-reiki-healing-3/
LOCATION:Balancing 4 Life\, 495 Main Street\, Suite 205\, Armonk\, 10504\, United States
CATEGORIES:Sound Healing
ATTACH;FMTTYPE=image/jpeg:https://www.balancing4life.com/wp-content/uploads/2025/10/53eb5d01-0db1-4bbc-a842-0e8d0b7b5556-1Anne-and-Alejandro.avif
ORGANIZER;CN="Balancing 4 Life":MAILTO:balancing4lifeusa@gmail.com
END:VEVENT
BEGIN:VEVENT
DTSTART;TZID=America/New_York:20251003T190000
DTEND;TZID=America/New_York:20251003T203000
DTSTAMP:20260421T172030
CREATED:20250908T200852Z
LAST-MODIFIED:20250908T200852Z
UID:9181-1759518000-1759523400@www.balancing4life.com
SUMMARY:Sound Bath with Reiki Healing
DESCRIPTION:Sound Healer\, Alejandro Fuentes and Anne Bentzen\, Jikiden Reiki Shihan offer a meditative healing experience with sound and Reiki. Enjoy mixed percussion sounds including didgeridoo\, flutes\, drumming and bowls while being guided to let your body release.  As you receive Reiki to facilitate healing\, your energy centers will open and respond to the sound frequencies restoring balance and inner harmony. Experience lying down or seated\, your choice. \nCost: $40 \nCapacity: 12 \nMaterials provided:  Yoga mats\, cushions\, blankets\, backjack chairs. Bring your own pillow. 
URL:https://www.balancing4life.com/event/sound-bath-with-reiki-healing-2/
LOCATION:Balancing 4 Life\, 495 Main Street\, Suite 205\, Armonk\, 10504\, United States
CATEGORIES:Sound Healing
ATTACH;FMTTYPE=image/jpeg:https://www.balancing4life.com/wp-content/uploads/2025/08/Sound-Bath-Armonk-scaled.avif
ORGANIZER;CN="Balancing 4 Life":MAILTO:balancing4lifeusa@gmail.com
END:VEVENT
BEGIN:VEVENT
DTSTART;TZID=UTC:20250912T190000
DTEND;TZID=UTC:20250912T203000
DTSTAMP:20260421T172030
CREATED:20250813T194749Z
LAST-MODIFIED:20250813T194749Z
UID:8963-1757703600-1757709000@www.balancing4life.com
SUMMARY:Sound Bath with Reiki Healing
DESCRIPTION:Sound Healer\, Alejandro Fuentes and Anne Bentzen\, Jikiden Reiki Shihan offer a meditative healing experience with sound and Reiki. Enjoy mixed percussion sounds including didgeridoo\, flutes\, drumming and bowls while being guided to let your body release.  As you receive Reiki to facilitate healing\, your energy centers will open and respond to the sound frequencies restoring balance and inner harmony. Experience lying down or seated\, your choice. \nCost: $40 \nCapacity: 12 \nMaterials provided:  Yoga mats\, cushions\, blankets\, backjack chairs. Bring your own pillow. 
URL:https://www.balancing4life.com/event/sound-bath-with-reiki-healing/
LOCATION:Balancing 4 Life\, 495 Main Street\, Suite 205\, Armonk\, 10504\, United States
CATEGORIES:Sound Healing
ATTACH;FMTTYPE=image/jpeg:https://www.balancing4life.com/wp-content/uploads/2025/08/Alejandro-Fuentes.avif
ORGANIZER;CN="Balancing 4 Life":MAILTO:balancing4lifeusa@gmail.com
END:VEVENT
BEGIN:VEVENT
DTSTART;TZID=UTC:20250606T190000
DTEND;TZID=UTC:20250606T203000
DTSTAMP:20260421T172030
CREATED:20250515T072149Z
LAST-MODIFIED:20250515T072355Z
UID:8686-1749236400-1749241800@www.balancing4life.com
SUMMARY:David Young Music Meditation and Sound Healing
DESCRIPTION:Have a mystical experience with David Young’s music as he creates soothing harmonies by playing 2 Renassiance flutes together simultaneously. David channels magical harmonic intervals that put you into a deeply relaxed state. Two enlightening guided meditations will take you beyond the veil through a portal between Heaven and Earth. David’s music is a staple at the Mayo Clinic and John’s Hopkins Hospital as well as at hundreds of healing centers and spas across the country. \nDavid travels hosting his signature workshop\, A Portal Between Heaven and Earth\, which blends his healing music with his enlightening guided meditations\, and where countless attendees report remarkable experiences.  These experiences are the inspiration for many of David’s songs\, books and paintings. \nLearn more about David at his website;  www.davidyoungmusic.com
URL:https://www.balancing4life.com/event/david-young-music-meditation-and-sound-healing/
LOCATION:Balancing 4 Life\, 495 Main Street\, Suite 205\, Armonk\, 10504\, United States
CATEGORIES:Sound Healing
ATTACH;FMTTYPE=image/jpeg:https://www.balancing4life.com/wp-content/uploads/2025/05/david123WEB.avif
ORGANIZER;CN="Balancing 4 Life":MAILTO:balancing4lifeusa@gmail.com
END:VEVENT
BEGIN:VEVENT
DTSTART;TZID=America/New_York:20250211T190000
DTEND;TZID=America/New_York:20250211T200000
DTSTAMP:20260421T172030
CREATED:20250111T033603Z
LAST-MODIFIED:20250210T064250Z
UID:7604-1739300400-1739304000@www.balancing4life.com
SUMMARY:Sound Bath and Meditation with Susie Sands
DESCRIPTION:CLICK TO REGISTER: \nExperience the alchemy of harmonic tones created by professional sound healer\, Susie Sands\, during this special evening performance as she expertly combines rich overtones from her crystal bowls to wash over you during this special sound bath.  Each crystal bowl\, infused with precious metals and gemstones\, awakeneds your chakras and facilitates a flow of energy.  Release anxiety and stress\, heal traumas\, dissolve stagnated areas.  Restore inter-connection and coherence of heart mind and soul as sacred intervals magically vibrate through your cells helping you raise your vibrational frequency to a new level of health and harmony. $45. Ages 15 and up welcome. \nSusie Sands trained with world reknown sound healer\, Jeralyn Glass.
URL:https://www.balancing4life.com/event/sound-bath-and-meditation-with-susie-sands/
LOCATION:Balancing 4 Life\, 495 Main Street\, Suite 205\, Armonk\, 10504\, United States
CATEGORIES:Sound Healing
ATTACH;FMTTYPE=image/jpeg:https://www.balancing4life.com/wp-content/uploads/2025/01/crystal-signing-bowls-scaled-e1738771677468.avif
ORGANIZER;CN="Balancing 4 Life":MAILTO:balancing4lifeusa@gmail.com
END:VEVENT
END:VCALENDAR