BEGIN:VCALENDAR
VERSION:2.0
PRODID:-//Balancing 4 Life - ECPv6.15.20//NONSGML v1.0//EN
CALSCALE:GREGORIAN
METHOD:PUBLISH
X-ORIGINAL-URL:https://www.balancing4life.com
X-WR-CALDESC:Events for Balancing 4 Life
REFRESH-INTERVAL;VALUE=DURATION:PT1H
X-Robots-Tag:noindex
X-PUBLISHED-TTL:PT1H
BEGIN:VTIMEZONE
TZID:America/New_York
BEGIN:DAYLIGHT
TZOFFSETFROM:-0500
TZOFFSETTO:-0400
TZNAME:EDT
DTSTART:20250309T070000
END:DAYLIGHT
BEGIN:STANDARD
TZOFFSETFROM:-0400
TZOFFSETTO:-0500
TZNAME:EST
DTSTART:20251102T060000
END:STANDARD
BEGIN:DAYLIGHT
TZOFFSETFROM:-0500
TZOFFSETTO:-0400
TZNAME:EDT
DTSTART:20260308T070000
END:DAYLIGHT
BEGIN:STANDARD
TZOFFSETFROM:-0400
TZOFFSETTO:-0500
TZNAME:EST
DTSTART:20261101T060000
END:STANDARD
BEGIN:DAYLIGHT
TZOFFSETFROM:-0500
TZOFFSETTO:-0400
TZNAME:EDT
DTSTART:20270314T070000
END:DAYLIGHT
BEGIN:STANDARD
TZOFFSETFROM:-0400
TZOFFSETTO:-0500
TZNAME:EST
DTSTART:20271107T060000
END:STANDARD
END:VTIMEZONE
BEGIN:VEVENT
DTSTART;TZID=America/New_York:20260206T190000
DTEND;TZID=America/New_York:20260206T203000
DTSTAMP:20260421T181655
CREATED:20260206T015146Z
LAST-MODIFIED:20260206T015146Z
UID:9892-1770404400-1770409800@www.balancing4life.com
SUMMARY:Sound Bath and Reiki Healing
DESCRIPTION:Restore your energy flow! \nRelax\, Release & Receive \nwith Sound vibrations and Reiki\nJoin Alejandro Fuentes and Anne Bentzen for their monthly sound bath offering being held usually the first Friday of each month.  Sound Healer\, Alejandro Fuentes and Anne Bentzen\, Jikiden Reiki Shihan offer monthly you a  meditative healing experience with sound and Reiki. Enjoy mixed percussion sounds including the Australian Aborigenese didgeridoo\, flutes\, drumming and singing bowls while being guided to let your body release. Receiving Reiki will facilitate healing and allow your body to open to the sound frequencies restoring balance and inner harmony. Experience lying down or seated\, your choice. \nCost: $40    Capacity: 12 for Yoga mats; 2 Zero gravity chairs \nMaterials provided:  Yoga mats\, cushions\, blankets\, backjack chairs. Bring your own pillow. 
URL:https://www.balancing4life.com/event/sound-bath-and-reiki-healing/
LOCATION:Balancing 4 Life\, 495 Main Street\, Suite 205\, Armonk\, 10504\, United States
CATEGORIES:Sound Healing
ATTACH;FMTTYPE=image/jpeg:https://www.balancing4life.com/wp-content/uploads/2025/10/53eb5d01-0db1-4bbc-a842-0e8d0b7b5556-1Anne-and-Alejandro.avif
ORGANIZER;CN="Balancing 4 Life":MAILTO:balancing4lifeusa@gmail.com
END:VEVENT
END:VCALENDAR