BEGIN:VCALENDAR
VERSION:2.0
PRODID:-//Balancing 4 Life - ECPv6.15.20//NONSGML v1.0//EN
CALSCALE:GREGORIAN
METHOD:PUBLISH
X-WR-CALNAME:Balancing 4 Life
X-ORIGINAL-URL:https://www.balancing4life.com
X-WR-CALDESC:Events for Balancing 4 Life
REFRESH-INTERVAL;VALUE=DURATION:PT1H
X-Robots-Tag:noindex
X-PUBLISHED-TTL:PT1H
BEGIN:VTIMEZONE
TZID:America/New_York
BEGIN:DAYLIGHT
TZOFFSETFROM:-0500
TZOFFSETTO:-0400
TZNAME:EDT
DTSTART:20240310T070000
END:DAYLIGHT
BEGIN:STANDARD
TZOFFSETFROM:-0400
TZOFFSETTO:-0500
TZNAME:EST
DTSTART:20241103T060000
END:STANDARD
BEGIN:DAYLIGHT
TZOFFSETFROM:-0500
TZOFFSETTO:-0400
TZNAME:EDT
DTSTART:20250309T070000
END:DAYLIGHT
BEGIN:STANDARD
TZOFFSETFROM:-0400
TZOFFSETTO:-0500
TZNAME:EST
DTSTART:20251102T060000
END:STANDARD
BEGIN:DAYLIGHT
TZOFFSETFROM:-0500
TZOFFSETTO:-0400
TZNAME:EDT
DTSTART:20260308T070000
END:DAYLIGHT
BEGIN:STANDARD
TZOFFSETFROM:-0400
TZOFFSETTO:-0500
TZNAME:EST
DTSTART:20261101T060000
END:STANDARD
END:VTIMEZONE
BEGIN:VEVENT
DTSTART;TZID=America/New_York:20251212T190000
DTEND;TZID=America/New_York:20251212T203000
DTSTAMP:20260421T232415
CREATED:20251020T155935Z
LAST-MODIFIED:20251201T234315Z
UID:9483-1765566000-1765571400@www.balancing4life.com
SUMMARY:Sound Bath with Reiki Healing
DESCRIPTION:December: Special 12:12 portal meditation for rebalancing and integration of masculine and feminine energies on this special day.  Sound Healer\, Alejandro Fuentes and Anne Bentzen\, Jikiden Reiki Shihan offer monthly meditative healing experience with sound and Reiki. Enjoy mixed percussion sounds including didgeridoo\, flutes\, drumming and bowls while being guided to let your body release.  As you receive Reiki to facilitate healing\, your energy centers will open and respond to the sound frequencies restoring balance and inner harmony. Experience lying down or seated\, your choice. \nCost: $40 \nCapacity: 12 \nMaterials provided:  Yoga mats\, cushions\, blankets\, backjack chairs. Bring your own pillow.  \nSPECIAL NOTE: Alejandro will not be performing on Dec. 12 as he is visiting his parents in Chile. He will return for the Winter Solstice.
URL:https://www.balancing4life.com/event/sound-bath-with-reiki-healing-4/
LOCATION:Balancing 4 Life\, 495 Main Street\, Suite 205\, Armonk\, 10504\, United States
CATEGORIES:Sound Healing
ATTACH;FMTTYPE=image/jpeg:https://www.balancing4life.com/wp-content/uploads/2025/10/53eb5d01-0db1-4bbc-a842-0e8d0b7b5556-1Anne-and-Alejandro.avif
ORGANIZER;CN="Balancing 4 Life":MAILTO:balancing4lifeusa@gmail.com
END:VEVENT
END:VCALENDAR