BEGIN:VCALENDAR
VERSION:2.0
PRODID:-//Balancing 4 Life - ECPv6.15.20//NONSGML v1.0//EN
CALSCALE:GREGORIAN
METHOD:PUBLISH
X-WR-CALNAME:Balancing 4 Life
X-ORIGINAL-URL:https://www.balancing4life.com
X-WR-CALDESC:Events for Balancing 4 Life
REFRESH-INTERVAL;VALUE=DURATION:PT1H
X-Robots-Tag:noindex
X-PUBLISHED-TTL:PT1H
BEGIN:VTIMEZONE
TZID:America/New_York
BEGIN:DAYLIGHT
TZOFFSETFROM:-0500
TZOFFSETTO:-0400
TZNAME:EDT
DTSTART:20240310T070000
END:DAYLIGHT
BEGIN:STANDARD
TZOFFSETFROM:-0400
TZOFFSETTO:-0500
TZNAME:EST
DTSTART:20241103T060000
END:STANDARD
BEGIN:DAYLIGHT
TZOFFSETFROM:-0500
TZOFFSETTO:-0400
TZNAME:EDT
DTSTART:20250309T070000
END:DAYLIGHT
BEGIN:STANDARD
TZOFFSETFROM:-0400
TZOFFSETTO:-0500
TZNAME:EST
DTSTART:20251102T060000
END:STANDARD
BEGIN:DAYLIGHT
TZOFFSETFROM:-0500
TZOFFSETTO:-0400
TZNAME:EDT
DTSTART:20260308T070000
END:DAYLIGHT
BEGIN:STANDARD
TZOFFSETFROM:-0400
TZOFFSETTO:-0500
TZNAME:EST
DTSTART:20261101T060000
END:STANDARD
END:VTIMEZONE
BEGIN:VEVENT
DTSTART;TZID=America/New_York:20251221T130000
DTEND;TZID=America/New_York:20251221T160000
DTSTAMP:20260421T165019
CREATED:20251027T175711Z
LAST-MODIFIED:20251213T194100Z
UID:9533-1766322000-1766332800@www.balancing4life.com
SUMMARY:Winter Solstice Ceremony & Celebration
DESCRIPTION:Balancing 4 Life is honored to have Bear Walker\, Native American Anishinaabe medicine man and holistic practitioner\, lead a traditional Native American sacred Winter Solstice Ceremony to mark the return of the light in the northern hemisphere. \nThe purpose of this ceremony is to separate the good seeds from the bad seeds that you have carried through 2025.  “Seeds” refers to your thoughts and actions during this past year.  What are you ready to let go of?  What do you not want to continue knot the next year?  What do you want to care forward into 2026? \nThrough reflections\, everyone will select 4 seeds they wish to carry into the New Year to the Spring Equinox.  Each person will participate in a fire ceremony.  You will be guided to burn the old seeds you wish to leave behind.  Capacity is limited for this intimate\, sacred ceremony.  Ceremonies are always FREE! \nFood offerings are encouraged to bring for sharing following the ceremony. Meet new people and reconnect with old friends.
URL:https://www.balancing4life.com/event/winter-solstice-ceremony-celebration/
LOCATION:Balancing 4 Life\, 495 Main Street\, Suite 205\, Armonk\, 10504\, United States
CATEGORIES:Solstices and Equinoxes
ATTACH;FMTTYPE=image/jpeg:https://www.balancing4life.com/wp-content/uploads/2024/11/kacper-szczechla-U2L0qbBw9Jo-unsplash-scaled.avif
ORGANIZER;CN="Balancing 4 Life":MAILTO:balancing4lifeusa@gmail.com
END:VEVENT
END:VCALENDAR