BEGIN:VCALENDAR
VERSION:2.0
PRODID:-//Balancing 4 Life - ECPv6.15.20//NONSGML v1.0//EN
CALSCALE:GREGORIAN
METHOD:PUBLISH
X-WR-CALNAME:Balancing 4 Life
X-ORIGINAL-URL:https://www.balancing4life.com
X-WR-CALDESC:Events for Balancing 4 Life
REFRESH-INTERVAL;VALUE=DURATION:PT1H
X-Robots-Tag:noindex
X-PUBLISHED-TTL:PT1H
BEGIN:VTIMEZONE
TZID:UTC
BEGIN:STANDARD
TZOFFSETFROM:+0000
TZOFFSETTO:+0000
TZNAME:UTC
DTSTART:20240101T000000
END:STANDARD
END:VTIMEZONE
BEGIN:VEVENT
DTSTART;TZID=UTC:20250502T150000
DTEND;TZID=UTC:20250502T170000
DTSTAMP:20260422T164059
CREATED:20250221T012406Z
LAST-MODIFIED:20250302T193330Z
UID:8081-1746198000-1746205200@www.balancing4life.com
SUMMARY:Shamanic Healing with Scott Nelson
DESCRIPTION:Welcome to Shamanic Healing with Scott Nelson: \nIn your session you will receive energy and spiritual balancing. Each session will contain different experiences and spiritual elements aimed to aid you in removing things that no longer serve you. Sessions may include visits from spirit totems\, revitalized spiritual connect\, and increased understanding of the native ways. \nScott Nelson has been practicing for 15 years offering healing modalities in\, Healing Drumming Circles\, Guided Meditations\, Sacred Anishinaabe Medicine Wheel Teachings and Shamanic Healings. \n“My passion for Native American spirituality led me to train for three years learning the Anishinaabe Midewiwin Medicine\, and I’m now offering my services as a facilitator of healing. I believe that true healing comes from addressing all aspects of being – physical\, mental\, emotional and spiritual – and that by connecting with nature\, we can achieve profound transformations in our lives. Whether you’re seeking relief from physical ailments\, emotional pain\, or just want to deepen your spiritual practices\, I’m here to help you on your journey to greater wholeness.”  – Scott Nelson\, Midewiwin\, Spirit Keeper Brother
URL:https://www.balancing4life.com/event/shamanic-healing-with-scott-nelson-8/
LOCATION:Balancing 4 Life\, 495 Main Street\, Suite 205\, Armonk\, 10504\, United States
CATEGORIES:Shamanic Healing
ATTACH;FMTTYPE=image/jpeg:https://www.balancing4life.com/wp-content/uploads/2025/02/andreas-wagner-t6t2-gXKxXM-unsplash-scaled.avif
ORGANIZER;CN="Balancing 4 Life":MAILTO:balancing4lifeusa@gmail.com
END:VEVENT
BEGIN:VEVENT
DTSTART;TZID=UTC:20250506T190000
DTEND;TZID=UTC:20250506T203000
DTSTAMP:20260422T164059
CREATED:20250221T012819Z
LAST-MODIFIED:20250410T061325Z
UID:8084-1746558000-1746563400@www.balancing4life.com
SUMMARY:Medicine Wheel Teachings with Scott Nelson
DESCRIPTION:Scott Nelson\, Spirit Keeper Brother\, is honored to teach the Anishinaabe Medicine Wheel teachings which represent a holistic worldview and offer guiding principles to assist you in living a life in balance and harmony. Learn the 28 stones of the Medicine Wheel.  Used in ceremonies and healing practices\, the medicine wheel serves as a framework as you grow through the cycles of life. If you are questioning your path in life or just want to know more about Native American culture and spirituality\, this teaching is for you. \nClass meets Tuesday evenings twice a month.  Class limit 15.  $40. \nScott Nelson has been practicing for 15 years offering healing modalities in\, Healing Drumming Circles\, Guided Meditations\, Sacred Anishinaabe Medicine Wheel Teachings and Shamanic Healings.  “My passion for Native American spirituality led me to train for three years learning the Anishinaabe Midewiwin Medicine\, and I’m now offering my services as a facilitator of healing. I believe that true healing comes from addressing all aspects of being – physical\, mental\, emotional and spiritual – and that by connecting with nature\, we can achieve profound transformations in our lives. Whether you’re seeking relief from physical ailments\, emotional pain\, or just want to deepen your spiritual practices\, I’m here to help you on your journey to greater wholeness.”  – Scott Nelson\, Midewiwin\, Spirit Keeper Brother
URL:https://www.balancing4life.com/event/medicine-wheel-teachings-with-scott-nelson-3/
LOCATION:Balancing 4 Life\, 495 Main Street\, Suite 205\, Armonk\, 10504\, United States
CATEGORIES:Shamanic Healing
ATTACH;FMTTYPE=image/jpeg:https://www.balancing4life.com/wp-content/uploads/2025/02/Native-American-colors.avif
ORGANIZER;CN="Balancing 4 Life":MAILTO:balancing4lifeusa@gmail.com
END:VEVENT
BEGIN:VEVENT
DTSTART;TZID=UTC:20250509T150000
DTEND;TZID=UTC:20250509T170000
DTSTAMP:20260422T164059
CREATED:20250221T003917Z
LAST-MODIFIED:20250410T025206Z
UID:8069-1746802800-1746810000@www.balancing4life.com
SUMMARY:Shamanic Healing with Scott Nelson
DESCRIPTION:Welcome to Shamanic Healing with Scott Nelson: \nIn your session you will receive energy and spiritual balancing. Each session will contain different experiences and spiritual elements aimed to aid you in removing things that no longer serve you. Sessions may include visits from spirit totems\, revitalized spiritual connect\, and increased understanding of the native ways. \nScott Nelson has been practicing for 15 years offering healing modalities in\, Healing Drumming Circles\, Guided Meditations\, Sacred Anishinaabe Medicine Wheel Teachings and Shamanic Healings. \n“My passion for Native American spirituality led me to train for three years learning the Anishinaabe Midewiwin Medicine\, and I’m now offering my services as a facilitator of healing. I believe that true healing comes from addressing all aspects of being – physical\, mental\, emotional and spiritual – and that by connecting with nature\, we can achieve profound transformations in our lives. Whether you’re seeking relief from physical ailments\, emotional pain\, or just want to deepen your spiritual practices\, I’m here to help you on your journey to greater wholeness.”  – Scott Nelson\, Midewiwin\, Spirit Keeper Brother
URL:https://www.balancing4life.com/event/shamanic-healing-with-scott-nelson-4/
LOCATION:Balancing 4 Life\, 495 Main Street\, Suite 205\, Armonk\, 10504\, United States
CATEGORIES:Shamanic Healing
ATTACH;FMTTYPE=image/jpeg:https://www.balancing4life.com/wp-content/uploads/2025/02/andreas-wagner-t6t2-gXKxXM-unsplash-scaled.avif
END:VEVENT
BEGIN:VEVENT
DTSTART;TZID=UTC:20250513T150000
DTEND;TZID=UTC:20250513T170000
DTSTAMP:20260422T164059
CREATED:20250221T003052Z
LAST-MODIFIED:20250410T025025Z
UID:8065-1747148400-1747155600@www.balancing4life.com
SUMMARY:Shamanic Healing with Scott Nelson
DESCRIPTION:Welcome to Shamanic Healing with Scott Nelson: \nIn your session you will receive energy and spiritual balancing. Each session will contain different experiences and spiritual elements aimed to aid you in removing things that no longer serve you. Sessions may include visits from spirit totems\, revitalized spiritual connect\, and increased understanding of the native ways. \nScott Nelson has been practicing for 15 years offering healing modalities in\, Healing Drumming Circles\, Guided Meditations\, Sacred Anishinaabe Medicine Wheel Teachings and Shamanic Healings. \n“My passion for Native American spirituality led me to train for three years learning the Anishinaabe Midewiwin Medicine\, and I’m now offering my services as a facilitator of healing. I believe that true healing comes from addressing all aspects of being – physical\, mental\, emotional and spiritual – and that by connecting with nature\, we can achieve profound transformations in our lives. Whether you’re seeking relief from physical ailments\, emotional pain\, or just want to deepen your spiritual practices\, I’m here to help you on your journey to greater wholeness.”  – Scott Nelson\, Midewiwin\, Spirit Keeper Brother
URL:https://www.balancing4life.com/event/shamanic-healing-with-scott-nelson-3/
LOCATION:Balancing 4 Life\, 495 Main Street\, Suite 205\, Armonk\, 10504\, United States
CATEGORIES:Shamanic Healing
ATTACH;FMTTYPE=image/jpeg:https://www.balancing4life.com/wp-content/uploads/2025/02/andreas-wagner-t6t2-gXKxXM-unsplash-scaled.avif
END:VEVENT
BEGIN:VEVENT
DTSTART;TZID=UTC:20250516T150000
DTEND;TZID=UTC:20250516T170000
DTSTAMP:20260422T164059
CREATED:20250218T223758Z
LAST-MODIFIED:20250410T024908Z
UID:8047-1747407600-1747414800@www.balancing4life.com
SUMMARY:Shamanic Healing with Scott Nelson
DESCRIPTION:Welcome to Shamanic Healing with Scott Nelson: \nIn your session you will receive energy and spiritual balancing. Each session will contain different experiences and spiritual elements aimed to aid you in removing things that no longer serve you. Sessions may include visits from spirit totems\, revitalized spiritual connect\, and increased understanding of the native ways. \nScott Nelson has been practicing for 15 years offering healing modalities in Healing Drumming Circles\, Guided Meditations\, Sacred Anishinaabe Medicine Wheel Teachings and Shamanic Healings. \n“My passion for Native American spirituality led me to train for three years learning the Anishinaabe Midewiwin Medicine\, and I’m now offering my services as a facilitator of healing. I believe that true healing comes from addressing all aspects of being – physical\, mental\, emotional and spiritual – and that by connecting with nature\, we can achieve profound transformations in our lives. Whether you’re seeking relief from physical ailments\, emotional pain\, or just want to deepen your spiritual practices\, I’m here to help you on your journey to greater wholeness.”  – Scott Nelson\, Midewiwin\, Spirit Keeper Brother
URL:https://www.balancing4life.com/event/shamanic-healing-with-scott-nelson-2/
LOCATION:Balancing 4 Life\, 495 Main Street\, Suite 205\, Armonk\, 10504\, United States
CATEGORIES:Shamanic Healing
ATTACH;FMTTYPE=image/jpeg:https://www.balancing4life.com/wp-content/uploads/2025/02/andreas-wagner-t6t2-gXKxXM-unsplash-scaled.avif
END:VEVENT
END:VCALENDAR