BEGIN:VCALENDAR
VERSION:2.0
PRODID:-//Balancing 4 Life - ECPv6.15.20//NONSGML v1.0//EN
CALSCALE:GREGORIAN
METHOD:PUBLISH
X-ORIGINAL-URL:https://www.balancing4life.com
X-WR-CALDESC:Events for Balancing 4 Life
REFRESH-INTERVAL;VALUE=DURATION:PT1H
X-Robots-Tag:noindex
X-PUBLISHED-TTL:PT1H
BEGIN:VTIMEZONE
TZID:America/New_York
BEGIN:DAYLIGHT
TZOFFSETFROM:-0500
TZOFFSETTO:-0400
TZNAME:EDT
DTSTART:20240310T070000
END:DAYLIGHT
BEGIN:STANDARD
TZOFFSETFROM:-0400
TZOFFSETTO:-0500
TZNAME:EST
DTSTART:20241103T060000
END:STANDARD
BEGIN:DAYLIGHT
TZOFFSETFROM:-0500
TZOFFSETTO:-0400
TZNAME:EDT
DTSTART:20250309T070000
END:DAYLIGHT
BEGIN:STANDARD
TZOFFSETFROM:-0400
TZOFFSETTO:-0500
TZNAME:EST
DTSTART:20251102T060000
END:STANDARD
BEGIN:DAYLIGHT
TZOFFSETFROM:-0500
TZOFFSETTO:-0400
TZNAME:EDT
DTSTART:20260308T070000
END:DAYLIGHT
BEGIN:STANDARD
TZOFFSETFROM:-0400
TZOFFSETTO:-0500
TZNAME:EST
DTSTART:20261101T060000
END:STANDARD
BEGIN:DAYLIGHT
TZOFFSETFROM:-0500
TZOFFSETTO:-0400
TZNAME:EDT
DTSTART:20270314T070000
END:DAYLIGHT
BEGIN:STANDARD
TZOFFSETFROM:-0400
TZOFFSETTO:-0500
TZNAME:EST
DTSTART:20271107T060000
END:STANDARD
END:VTIMEZONE
BEGIN:VTIMEZONE
TZID:UTC
BEGIN:STANDARD
TZOFFSETFROM:+0000
TZOFFSETTO:+0000
TZNAME:UTC
DTSTART:20240101T000000
END:STANDARD
END:VTIMEZONE
BEGIN:VTIMEZONE
TZID:America/New_York
BEGIN:DAYLIGHT
TZOFFSETFROM:-0500
TZOFFSETTO:-0400
TZNAME:EDT
DTSTART:20240310T070000
END:DAYLIGHT
BEGIN:STANDARD
TZOFFSETFROM:-0400
TZOFFSETTO:-0500
TZNAME:EST
DTSTART:20241103T060000
END:STANDARD
BEGIN:DAYLIGHT
TZOFFSETFROM:-0500
TZOFFSETTO:-0400
TZNAME:EDT
DTSTART:20250309T070000
END:DAYLIGHT
BEGIN:STANDARD
TZOFFSETFROM:-0400
TZOFFSETTO:-0500
TZNAME:EST
DTSTART:20251102T060000
END:STANDARD
BEGIN:DAYLIGHT
TZOFFSETFROM:-0500
TZOFFSETTO:-0400
TZNAME:EDT
DTSTART:20260308T070000
END:DAYLIGHT
BEGIN:STANDARD
TZOFFSETFROM:-0400
TZOFFSETTO:-0500
TZNAME:EST
DTSTART:20261101T060000
END:STANDARD
END:VTIMEZONE
BEGIN:VEVENT
DTSTART;TZID=America/New_York:20260407T190000
DTEND;TZID=America/New_York:20260407T210000
DTSTAMP:20260421T072245
CREATED:20260406T134630Z
LAST-MODIFIED:20260406T134630Z
UID:10506-1775588400-1775595600@www.balancing4life.com
SUMMARY:Medicine Wheel Teachings with Scott Nelson
DESCRIPTION:April classes are for existing students. Join us for an in-depth learning experience as Scott Nelson reveals the sacred teachings of the Native American medicine wheel. As Spirit Keeper Brother\, Scott preserves the native traditions by teaching the Anishinaabe Medicine Wheel philosophy of living in balance with the natural rhythms of our planet.  The Medicine Wheel represents a holistic worldview and offer guiding principles to assist you to live in harmony with yourself\, with spirit and others. Discover your interconnectedness with all life and gain a greater understanding and empowerment for your personal journey. $40
URL:https://www.balancing4life.com/event/medicine-wheel-teachings-with-scott-nelson-22/
LOCATION:Balancing 4 Life\, 495 Main Street\, Suite 205\, Armonk\, 10504\, United States
CATEGORIES:Medicine Wheel Teachings
ATTACH;FMTTYPE=image/jpeg:https://www.balancing4life.com/wp-content/uploads/2025/09/Scott-Nelson-Medicine-Wheel.avif
END:VEVENT
BEGIN:VEVENT
DTSTART;TZID=America/New_York:20260331T190000
DTEND;TZID=America/New_York:20260331T210000
DTSTAMP:20260421T072245
CREATED:20260308T212318Z
LAST-MODIFIED:20260308T212318Z
UID:10179-1774983600-1774990800@www.balancing4life.com
SUMMARY:Medicine Wheel Teachings with Scott Nelson
DESCRIPTION:Join us for an informative learning experience as Scott Nelson reveals the sacred teachings of the Native American medicine wheel. As Spirit Keeper Brother\, Scott preserves the native traditions by teaching the Anishinaabe Medicine Wheel philosophy of living in balance with the natural rhythms of our planet.  The Medicine Wheel represents a holistic worldview and offer guiding principles to assist you to live in harmony with yourself\, with spirit and others. Discover your interconnectedness with all life and gain a greater understanding and empowerment for your personal journey. $40
URL:https://www.balancing4life.com/event/medicine-wheel-teachings-with-scott-nelson-20/
LOCATION:Balancing 4 Life\, 495 Main Street\, Suite 205\, Armonk\, 10504\, United States
CATEGORIES:Medicine Wheel Teachings
ATTACH;FMTTYPE=image/jpeg:https://www.balancing4life.com/wp-content/uploads/2025/06/Anishinaabe-Medicine-Wheel.avif
ORGANIZER;CN="Balancing 4 Life":MAILTO:balancing4lifeusa@gmail.com
END:VEVENT
BEGIN:VEVENT
DTSTART;TZID=America/New_York:20260317T190000
DTEND;TZID=America/New_York:20260317T210000
DTSTAMP:20260421T072245
CREATED:20260308T212042Z
LAST-MODIFIED:20260308T212042Z
UID:10177-1773774000-1773781200@www.balancing4life.com
SUMMARY:Medicine Wheel Teachings with Scott Nelson
DESCRIPTION:Join us for an informative learning experience as Scott Nelson reveals the sacred teachings of the Native American medicine wheel. As Spirit Keeper Brother\, Scott preserves the native traditions by teaching the Anishinaabe Medicine Wheel philosophy of living in balance with the natural rhythms of our planet.  The Medicine Wheel represents a holistic worldview and offer guiding principles to assist you to live in harmony with yourself\, with spirit and others. Discover your interconnectedness with all life and gain a greater understanding and empowerment for your personal journey. $40
URL:https://www.balancing4life.com/event/medicine-wheel-teachings-with-scott-nelson-19/
LOCATION:Balancing 4 Life\, 495 Main Street\, Suite 205\, Armonk\, 10504\, United States
CATEGORIES:Medicine Wheel Teachings
ATTACH;FMTTYPE=image/jpeg:https://www.balancing4life.com/wp-content/uploads/2025/06/Anishinaabe-Medicine-Wheel.avif
ORGANIZER;CN="Balancing 4 Life":MAILTO:balancing4lifeusa@gmail.com
END:VEVENT
BEGIN:VEVENT
DTSTART;TZID=America/New_York:20260303T190000
DTEND;TZID=America/New_York:20260303T210000
DTSTAMP:20260421T072245
CREATED:20260308T212650Z
LAST-MODIFIED:20260308T212650Z
UID:10181-1772564400-1772571600@www.balancing4life.com
SUMMARY:Medicine Wheel Teachings with Scott Nelson
DESCRIPTION:Join us for an informative learning experience as Scott Nelson reveals the sacred teachings of the Native American medicine wheel. As Spirit Keeper Brother\, Scott preserves the native traditions by teaching the Anishinaabe Medicine Wheel philosophy of living in balance with the natural rhythms of our planet.  The Medicine Wheel represents a holistic worldview and offer guiding principles to assist you to live in harmony with yourself\, with spirit and others. Discover your interconnectedness with all life and gain a greater understanding and empowerment for your personal journey. $40
URL:https://www.balancing4life.com/event/medicine-wheel-teachings-with-scott-nelson-21/
LOCATION:Balancing 4 Life\, 495 Main Street\, Suite 205\, Armonk\, 10504\, United States
CATEGORIES:Medicine Wheel Teachings
ATTACH;FMTTYPE=image/jpeg:https://www.balancing4life.com/wp-content/uploads/2025/06/Anishinaabe-Medicine-Wheel.avif
END:VEVENT
BEGIN:VEVENT
DTSTART;TZID=America/New_York:20260120T190000
DTEND;TZID=America/New_York:20260120T210000
DTSTAMP:20260421T072245
CREATED:20251213T201505Z
LAST-MODIFIED:20251213T201505Z
UID:9649-1768935600-1768942800@www.balancing4life.com
SUMMARY:Medicine Wheel Teachings with Scott Nelson
DESCRIPTION:Join us for an informative learning experience as Scott Nelson reveals the sacred teachings of the Native American medicine wheel. As Spirit Keeper Brother\, Scott preserves the native traditions by teaching the Anishinaabe Medicine Wheel philosophy of living in balance with the natural rhythms of our planet.  The Medicine Wheel represents a holistic worldview and offer guiding principles to assist you to live in harmony with yourself\, with spirit and others. Discover your interconnectedness with all life and gain a greater understanding and empowerment for your personal journey. $40
URL:https://www.balancing4life.com/event/medicine-wheel-teachings-with-scott-nelson-18/
LOCATION:Balancing 4 Life\, 495 Main Street\, Suite 205\, Armonk\, 10504\, United States
CATEGORIES:Medicine Wheel Teachings
ATTACH;FMTTYPE=image/jpeg:https://www.balancing4life.com/wp-content/uploads/2025/06/Anishinaabe-Medicine-Wheel.avif
ORGANIZER;CN="Jessica Lawrence":MAILTO:askjess123@gmail.com
END:VEVENT
BEGIN:VEVENT
DTSTART;TZID=America/New_York:20251118T190000
DTEND;TZID=America/New_York:20251118T210000
DTSTAMP:20260421T072245
CREATED:20251020T150745Z
LAST-MODIFIED:20251020T150745Z
UID:9471-1763492400-1763499600@www.balancing4life.com
SUMMARY:Medicine Wheel Teachings with Scott Nelson
DESCRIPTION:Join us for an informative learning experience as Scott Nelson reveals the sacred teachings of the Native American medicine wheel. As Spirit Keeper Brother\, Scott preserves the native traditions by teaching the Anishinaabe Medicine Wheel philosophy of living in balance with the natural rhythms of our planet.  The Medicine Wheel represents a holistic worldview and offer guiding principles to assist you to live in harmony with yourself\, with spirit and others. Discover your interconnectedness with all life and gain a greater understanding and empowerment for your personal journey. $40
URL:https://www.balancing4life.com/event/medicine-wheel-teachings-with-scott-nelson-17/
LOCATION:Balancing 4 Life\, 495 Main Street\, Suite 205\, Armonk\, 10504\, United States
CATEGORIES:Medicine Wheel Teachings
ATTACH;FMTTYPE=image/jpeg:https://www.balancing4life.com/wp-content/uploads/2025/06/Anishinaabe-Medicine-Wheel.avif
ORGANIZER;CN="Balancing 4 Life":MAILTO:balancing4lifeusa@gmail.com
END:VEVENT
BEGIN:VEVENT
DTSTART;TZID=America/New_York:20251104T190000
DTEND;TZID=America/New_York:20251104T210000
DTSTAMP:20260421T072245
CREATED:20251020T145928Z
LAST-MODIFIED:20251020T145928Z
UID:9469-1762282800-1762290000@www.balancing4life.com
SUMMARY:Medicine Wheel Teachings with Scott Nelson
DESCRIPTION:Join us for an informative learning experience as Scott Nelson reveals the sacred teachings of the Native American medicine wheel. As Spirit Keeper Brother\, Scott preserves the native traditions by teaching the Anishinaabe Medicine Wheel philosophy of living in balance with the natural rhythms of our planet.  The Medicine Wheel represents a holistic worldview and offer guiding principles to assist you to live in harmony with yourself\, with spirit and others. Discover your interconnectedness with all life and gain a greater understanding and empowerment for your personal journey. $40
URL:https://www.balancing4life.com/event/medicine-wheel-teachings-with-scott-nelson-16/
LOCATION:Balancing 4 Life\, 495 Main Street\, Suite 205\, Armonk\, 10504\, United States
CATEGORIES:Medicine Wheel Teachings
ATTACH;FMTTYPE=image/jpeg:https://www.balancing4life.com/wp-content/uploads/2025/06/Anishinaabe-Medicine-Wheel.avif
ORGANIZER;CN="Balancing 4 Life":MAILTO:balancing4lifeusa@gmail.com
END:VEVENT
BEGIN:VEVENT
DTSTART;TZID=America/New_York:20251021T190000
DTEND;TZID=America/New_York:20251021T210000
DTSTAMP:20260421T072245
CREATED:20250908T180052Z
LAST-MODIFIED:20250908T180052Z
UID:9175-1761073200-1761080400@www.balancing4life.com
SUMMARY:Medicine Wheel Teachings with Scott Nelson
DESCRIPTION:Join us for an informative learning experience as Scott Nelson reveals the sacred teachings of the Native American medicine wheel. As Spirit Keeper Brother\, Scott preserves the native traditions by teaching the Anishinaabe Medicine Wheel philosophy of living in balance with the natural rhythms of our planet.  The Medicine Wheel represents a holistic worldview and offer guiding principles to assist you to live in harmony with yourself\, with spirit and others. Discover your interconnectedness with all life and gain a greater understanding and empowerment for your personal journey. $40
URL:https://www.balancing4life.com/event/medicine-wheel-teachings-with-scott-nelson-15/
CATEGORIES:Medicine Wheel Teachings
ATTACH;FMTTYPE=image/jpeg:https://www.balancing4life.com/wp-content/uploads/2025/06/Anishinaabe-Medicine-Wheel.avif
END:VEVENT
BEGIN:VEVENT
DTSTART;TZID=America/New_York:20251007T190000
DTEND;TZID=America/New_York:20251007T210000
DTSTAMP:20260421T072245
CREATED:20250908T175756Z
LAST-MODIFIED:20250908T175756Z
UID:9173-1759863600-1759870800@www.balancing4life.com
SUMMARY:Medicine Wheel Teachings with Scott Nelson
DESCRIPTION:Join us for an informative learning experience as Scott Nelson reveals the sacred teachings of the Native American medicine wheel. As Spirit Keeper Brother\, Scott preserves the native traditions by teaching the Anishinaabe Medicine Wheel philosophy of living in balance with the natural rhythms of our planet.  The Medicine Wheel represents a holistic worldview and offer guiding principles to assist you to live in harmony with yourself\, with spirit and others. Discover your interconnectedness with all life and gain a greater understanding and empowerment for your personal journey. $40
URL:https://www.balancing4life.com/event/medicine-wheel-teachings-with-scott-nelson-14/
LOCATION:Balancing 4 Life\, 495 Main Street\, Suite 205\, Armonk\, 10504\, United States
CATEGORIES:Medicine Wheel Teachings
ATTACH;FMTTYPE=image/jpeg:https://www.balancing4life.com/wp-content/uploads/2025/06/Anishinaabe-Medicine-Wheel.avif
END:VEVENT
BEGIN:VEVENT
DTSTART;TZID=UTC:20250923T190000
DTEND;TZID=UTC:20250923T210000
DTSTAMP:20260421T072245
CREATED:20250812T185817Z
LAST-MODIFIED:20250812T185817Z
UID:8951-1758654000-1758661200@www.balancing4life.com
SUMMARY:Medicine Wheel Teachings with Scott Nelson
DESCRIPTION:Join us for an informative learning experience as Scott Nelson reveals the sacred teachings of the Native American medicine wheel. As Spirit Keeper Brother\, Scott preserves the native traditions by teaching the Anishinaabe Medicine Wheel philosophy of living in balance with the natural rhythms of our planet.  The Medicine Wheel represents a holistic worldview and offer guiding principles to assist you to live in harmony with yourself\, with spirit and others. Discover your interconnectedness with all life and gain a greater understanding and empowerment for your personal journey.
URL:https://www.balancing4life.com/event/medicine-wheel-teachings-with-scott-nelson-11/
LOCATION:Balancing 4 Life\, 495 Main Street\, Suite 205\, Armonk\, 10504\, United States
CATEGORIES:Medicine Wheel Teachings
ATTACH;FMTTYPE=image/jpeg:https://www.balancing4life.com/wp-content/uploads/2025/06/Anishinaabe-Medicine-Wheel.avif
ORGANIZER;CN="Balancing 4 Life":MAILTO:balancing4lifeusa@gmail.com
END:VEVENT
BEGIN:VEVENT
DTSTART;TZID=UTC:20250909T190000
DTEND;TZID=UTC:20250909T210000
DTSTAMP:20260421T072245
CREATED:20250812T184517Z
LAST-MODIFIED:20250812T184517Z
UID:8949-1757444400-1757451600@www.balancing4life.com
SUMMARY:Medicine Wheel Teachings with Scott Nelson
DESCRIPTION:Join us for an informative learning experience as Scott Nelson shares the sacred teachings of the Anishinaabe Medicine Wheel.  The Anishinaabe Medicine Wheel teachings represent a holistic worldview and offer guiding principles to assist you in living a life in balance and harmony. Discover your interconnectedness with all life and gain a greater understanding of your personal journey through life. \nStart at the beginning with creation. Used in ceremonies and healing practices\, the medicine wheel serves as a framework as you grow through the cycles of life. If you are questioning your path in life or just want to know more about Native American culture and spirituality\, this teaching is for you. $40
URL:https://www.balancing4life.com/event/medicine-wheel-teachings-with-scott-nelson-10/
LOCATION:Balancing 4 Life\, 495 Main Street\, Suite 205\, Armonk\, 10504\, United States
CATEGORIES:Medicine Wheel Teachings
ATTACH;FMTTYPE=image/jpeg:https://www.balancing4life.com/wp-content/uploads/2025/06/Anishinaabe-Medicine-Wheel.avif
ORGANIZER;CN="Balancing 4 Life":MAILTO:balancing4lifeusa@gmail.com
END:VEVENT
BEGIN:VEVENT
DTSTART;TZID=UTC:20250826T190000
DTEND;TZID=UTC:20250826T210000
DTSTAMP:20260421T072245
CREATED:20250610T065122Z
LAST-MODIFIED:20250709T173138Z
UID:8770-1756234800-1756242000@www.balancing4life.com
SUMMARY:Medicine Wheel Teachings with Scott Nelson
DESCRIPTION:Join us for an informative learning experience as Scott Nelson shares the sacred teachings of the Anishinaabe Medicine Wheel.  The Anishinaabe Medicine Wheel teachings represent a holistic worldview and offer guiding principles to assist you in living a life in balance and harmony. Discover your interconnectedness with all life and gain a greater understanding of your personal journey through life. \nStart at the beginning with creation. Used in ceremonies and healing practices\, the medicine wheel serves as a framework as you grow through the cycles of life. If you are questioning your path in life or just want to know more about Native American culture and spirituality\, this teaching is for you. $40
URL:https://www.balancing4life.com/event/medicine-wheel-teachings-with-scott-nelson-13/
LOCATION:Balancing 4 Life\, 495 Main Street\, Suite 205\, Armonk\, 10504\, United States
CATEGORIES:Medicine Wheel Teachings
ATTACH;FMTTYPE=image/jpeg:https://www.balancing4life.com/wp-content/uploads/2025/06/Anishinaabe-Medicine-Wheel.avif
ORGANIZER;CN="Balancing 4 Life":MAILTO:balancing4lifeusa@gmail.com
END:VEVENT
BEGIN:VEVENT
DTSTART;TZID=UTC:20250812T190000
DTEND;TZID=UTC:20250812T210000
DTSTAMP:20260421T072245
CREATED:20250610T064953Z
LAST-MODIFIED:20250616T012753Z
UID:8768-1755025200-1755032400@www.balancing4life.com
SUMMARY:Medicine Wheel Teachings with Scott Nelson
DESCRIPTION:Join us for an informative learning experience as Scott Nelson shares the sacred teachings of the Anishinaabe Medicine Wheel.  The Anishinaabe Medicine Wheel teachings represent a holistic worldview and offer guiding principles to assist you in living a life in balance and harmony. Discover your interconnectedness with all life and gain a greater understanding of your personal journey through life. \nStart at the beginning with creation. Used in ceremonies and healing practices\, the medicine wheel serves as a framework as you grow through the cycles of life. If you are questioning your path in life or just want to know more about Native American culture and spirituality\, this teaching is for you. $40
URL:https://www.balancing4life.com/event/medicine-wheel-teachings-with-scott-nelson-12/
LOCATION:Balancing 4 Life\, 495 Main Street\, Suite 205\, Armonk\, 10504\, United States
CATEGORIES:Medicine Wheel Teachings
ATTACH;FMTTYPE=image/jpeg:https://www.balancing4life.com/wp-content/uploads/2025/06/Anishinaabe-Medicine-Wheel.avif
ORGANIZER;CN="Balancing 4 Life":MAILTO:balancing4lifeusa@gmail.com
END:VEVENT
BEGIN:VEVENT
DTSTART;TZID=UTC:20250701T190000
DTEND;TZID=UTC:20250701T210000
DTSTAMP:20260421T072245
CREATED:20250610T054214Z
LAST-MODIFIED:20250616T012447Z
UID:8745-1751396400-1751403600@www.balancing4life.com
SUMMARY:Medicine Wheel Teachings with Scott Nelson
DESCRIPTION:Scott Nelson\, Spirit Keeper Brother\, is honored to teach the Anishinaabe Medicine Wheel teachings which represent a holistic worldview and offer guiding principles to assist you in living a life in balance and harmony. Learn the 28 stones of the Medicine Wheel.  Used in ceremonies and healing practices\, the medicine wheel serves as a framework as you grow through the cycles of life. If you are questioning your path in life or just want to know more about Native American culture and spirituality\, this teaching is for you. \nClass meets Tuesday evenings twice a month.  Class limit 15.  $40.
URL:https://www.balancing4life.com/event/medicine-wheel-teachings-with-scott-nelson-9/
LOCATION:Balancing 4 Life\, 495 Main Street\, Suite 205\, Armonk\, 10504\, United States
CATEGORIES:Medicine Wheel Teachings
ATTACH;FMTTYPE=image/jpeg:https://www.balancing4life.com/wp-content/uploads/2025/06/Anishinaabe-Medicine-Wheel.avif
ORGANIZER;CN="Balancing 4 Life":MAILTO:balancing4lifeusa@gmail.com
END:VEVENT
BEGIN:VEVENT
DTSTART;TZID=UTC:20250624T190000
DTEND;TZID=UTC:20250624T210000
DTSTAMP:20260421T072245
CREATED:20250509T180908Z
LAST-MODIFIED:20250624T153507Z
UID:8621-1750791600-1750798800@www.balancing4life.com
SUMMARY:Special Medicine Wheel Forgiveness Ceremony with Scott Nelson
DESCRIPTION:Special Forgiveness Ceremony led by Scott Nelson\, Spirit Keeper Brother\, will be conducted tonight as participants move through the Anishinaabe Medicine Wheel teachings from the 3rd stone of Thankfulness to the 4th stone of Love.  Forgiveness is necessary before one can progress to the 4th stone. All are welcome to this free ceremony. \nThe Medicine Wheel represents a holistic worldview and offer guiding principles to assist you in living a life in balance and harmony. Learn the 28 stones of the Medicine Wheel.  Used in ceremonies and healing practices\, the medicine wheel serves as a framework as you grow through the cycles of life. If you are questioning your path in life or just want to know more about Native American culture and spirituality\, this teaching is for you. \nClass regularly meets Tuesday evenings twice a month.
URL:https://www.balancing4life.com/event/medicine-wheel-teachings-with-scott-nelson-8/
LOCATION:Balancing 4 Life\, 495 Main Street\, Suite 205\, Armonk\, 10504\, United States
CATEGORIES:Medicine Wheel Teachings
ATTACH;FMTTYPE=image/jpeg:https://www.balancing4life.com/wp-content/uploads/2025/05/joshua-hoehne-0F4duBPWlCw-unsplash-scaled.avif
ORGANIZER;CN="Balancing 4 Life":MAILTO:balancing4lifeusa@gmail.com
END:VEVENT
BEGIN:VEVENT
DTSTART;TZID=UTC:20250603T190000
DTEND;TZID=UTC:20250603T210000
DTSTAMP:20260421T072245
CREATED:20250509T180718Z
LAST-MODIFIED:20250509T180718Z
UID:8619-1748977200-1748984400@www.balancing4life.com
SUMMARY:Medicine Wheel Teachings with Scott Nelson
DESCRIPTION:Scott Nelson\, Spirit Keeper Brother\, is honored to teach the Anishinaabe Medicine Wheel teachings which represent a holistic worldview and offer guiding principles to assist you in living a life in balance and harmony. Learn the 28 stones of the Medicine Wheel.  Used in ceremonies and healing practices\, the medicine wheel serves as a framework as you grow through the cycles of life. If you are questioning your path in life or just want to know more about Native American culture and spirituality\, this teaching is for you. \nClass meets Tuesday evenings twice a month.  Class limit 15.  $40.
URL:https://www.balancing4life.com/event/medicine-wheel-teachings-with-scott-nelson-7/
LOCATION:Balancing 4 Life\, 495 Main Street\, Suite 205\, Armonk\, 10504\, United States
CATEGORIES:Medicine Wheel Teachings
ATTACH;FMTTYPE=image/jpeg:https://www.balancing4life.com/wp-content/uploads/2025/02/Native-American-colors.avif
ORGANIZER;CN="Balancing 4 Life":MAILTO:balancing4lifeusa@gmail.com
END:VEVENT
BEGIN:VEVENT
DTSTART;TZID=UTC:20250429T190000
DTEND;TZID=UTC:20250429T210000
DTSTAMP:20260421T072245
CREATED:20250205T224058Z
LAST-MODIFIED:20250302T192904Z
UID:7885-1745953200-1745960400@www.balancing4life.com
SUMMARY:Medicine Wheel Teachings with Scott Nelson
DESCRIPTION:Scott Nelson\, Spirit Keeper Brother\, is honored to teach the Anishinaabe Medicine Wheel teachings which represent a holistic worldview and offer guiding principles to assist you in living a life in balance and harmony. Learn the 28 stones of the Medicine Wheel.  Used in ceremonies and healing practices\, the medicine wheel serves as a framework as you grow through the cycles of life. If you are questioning your path in life or just want to know more about Native American culture and spirituality\, this teaching is for you. \nClass meets Tuesday evenings twice a month.  Class limit 15.  $40.
URL:https://www.balancing4life.com/event/medicine-wheel-teachings-with-scott-nelson-4/
LOCATION:Balancing 4 Life\, 495 Main Street\, Suite 205\, Armonk\, 10504\, United States
CATEGORIES:Medicine Wheel Teachings
ATTACH;FMTTYPE=image/jpeg:https://www.balancing4life.com/wp-content/uploads/2025/02/Native-American-colors.avif
ORGANIZER;CN="Balancing 4 Life":MAILTO:balancing4lifeusa@gmail.com
END:VEVENT
BEGIN:VEVENT
DTSTART;TZID=UTC:20250408T190000
DTEND;TZID=UTC:20250408T210000
DTSTAMP:20260421T072245
CREATED:20250205T224407Z
LAST-MODIFIED:20250223T072545Z
UID:7887-1744138800-1744146000@www.balancing4life.com
SUMMARY:Medicine Wheel Teachings with Scott Nelson
DESCRIPTION:Scott Nelson\, Spirit Keeper Brother\, is honored to teach the Anishinaabe Medicine Wheel teachings which represent a holistic worldview and offer guiding principles to assist you in living a life in balance and harmony. Learn the 28 stones of the Medicine Wheel.  Used in ceremonies and healing practices\, the medicine wheel serves as a framework as you grow through the cycles of life. If you are questioning your path in life or just want to know more about Native American culture and spirituality\, this teaching is for you. \nClass meets Tuesday evenings twice a month.  Class limit 15.  $40.
URL:https://www.balancing4life.com/event/medicine-wheel-teachings-with-scott-nelson-5/
LOCATION:Balancing 4 Life\, 495 Main Street\, Suite 205\, Armonk\, 10504\, United States
CATEGORIES:Medicine Wheel Teachings
ATTACH;FMTTYPE=image/jpeg:https://www.balancing4life.com/wp-content/uploads/2025/02/Native-American-colors.avif
ORGANIZER;CN="Balancing 4 Life":MAILTO:balancing4lifeusa@gmail.com
END:VEVENT
BEGIN:VEVENT
DTSTART;TZID=UTC:20250204T190000
DTEND;TZID=UTC:20250204T210000
DTSTAMP:20260421T072245
CREATED:20250111T032337Z
LAST-MODIFIED:20250111T032337Z
UID:7601-1738695600-1738702800@www.balancing4life.com
SUMMARY:Medicine Wheel Teachings with Scott Nelson
DESCRIPTION:Scott Nelson\, Spirit Keeper Brother\, a new series of teaching the Native American Medicine Wheel this month. Learn the 28 stones of the wheel that assist you to live in harmony with Nature.  Beginning with the inner circle of 8 stones\, discover the foundational principles of spiritual maturity for living in connection with All That Is. Discover the wisdom of living in coherence with all of creation.   Limited to 15. $40  Classes meet twice a month on Tuesday evenings.
URL:https://www.balancing4life.com/event/medicine-wheel-teachings-with-scott-nelson-2/
LOCATION:Balancing 4 Life\, 495 Main Street\, Suite 205\, Armonk\, 10504\, United States
CATEGORIES:Medicine Wheel Teachings
END:VEVENT
BEGIN:VEVENT
DTSTART;TZID=America/New_York:20250107T190000
DTEND;TZID=America/New_York:20250107T210000
DTSTAMP:20260421T072245
CREATED:20250107T091224Z
LAST-MODIFIED:20250107T224758Z
UID:7576-1736276400-1736283600@www.balancing4life.com
SUMMARY:Medicine Wheel Teachings with Scott Nelson
DESCRIPTION:Scott Nelson\, Spirit Keeper Brother\, is honored to teach the Anishinaabe Medicine Wheel teachings which represent a holistic worldview and offer guiding principles to assist you in living a life in balance and harmony. Learn the 28 stones of the Medicine Wheel.  Used in ceremonies and healing practices\, the medicine wheel serves as a framework as you grow through the cycles of life. If you are questioning your path in life or just want to know more about Native American culture and spirituality\, this teaching is for you. \nClass meets Tuesday evenings twice a month.  Class limit 15.  $40. \n 
URL:https://www.balancing4life.com/event/medicine-wheel-teachings-with-scott-nelson/
LOCATION:Balancing 4 Life\, 495 Main Street\, Suite 205\, Armonk\, 10504\, United States
CATEGORIES:Medicine Wheel Teachings
END:VEVENT
END:VCALENDAR