BEGIN:VCALENDAR
VERSION:2.0
PRODID:-//Balancing 4 Life - ECPv6.15.20//NONSGML v1.0//EN
CALSCALE:GREGORIAN
METHOD:PUBLISH
X-ORIGINAL-URL:https://www.balancing4life.com
X-WR-CALDESC:Events for Balancing 4 Life
REFRESH-INTERVAL;VALUE=DURATION:PT1H
X-Robots-Tag:noindex
X-PUBLISHED-TTL:PT1H
BEGIN:VTIMEZONE
TZID:America/New_York
BEGIN:DAYLIGHT
TZOFFSETFROM:-0500
TZOFFSETTO:-0400
TZNAME:EDT
DTSTART:20240310T070000
END:DAYLIGHT
BEGIN:STANDARD
TZOFFSETFROM:-0400
TZOFFSETTO:-0500
TZNAME:EST
DTSTART:20241103T060000
END:STANDARD
BEGIN:DAYLIGHT
TZOFFSETFROM:-0500
TZOFFSETTO:-0400
TZNAME:EDT
DTSTART:20250309T070000
END:DAYLIGHT
BEGIN:STANDARD
TZOFFSETFROM:-0400
TZOFFSETTO:-0500
TZNAME:EST
DTSTART:20251102T060000
END:STANDARD
BEGIN:DAYLIGHT
TZOFFSETFROM:-0500
TZOFFSETTO:-0400
TZNAME:EDT
DTSTART:20260308T070000
END:DAYLIGHT
BEGIN:STANDARD
TZOFFSETFROM:-0400
TZOFFSETTO:-0500
TZNAME:EST
DTSTART:20261101T060000
END:STANDARD
BEGIN:DAYLIGHT
TZOFFSETFROM:-0500
TZOFFSETTO:-0400
TZNAME:EDT
DTSTART:20270314T070000
END:DAYLIGHT
BEGIN:STANDARD
TZOFFSETFROM:-0400
TZOFFSETTO:-0500
TZNAME:EST
DTSTART:20271107T060000
END:STANDARD
END:VTIMEZONE
BEGIN:VTIMEZONE
TZID:UTC
BEGIN:STANDARD
TZOFFSETFROM:+0000
TZOFFSETTO:+0000
TZNAME:UTC
DTSTART:20240101T000000
END:STANDARD
END:VTIMEZONE
BEGIN:VTIMEZONE
TZID:America/New_York
BEGIN:DAYLIGHT
TZOFFSETFROM:-0500
TZOFFSETTO:-0400
TZNAME:EDT
DTSTART:20240310T070000
END:DAYLIGHT
BEGIN:STANDARD
TZOFFSETFROM:-0400
TZOFFSETTO:-0500
TZNAME:EST
DTSTART:20241103T060000
END:STANDARD
BEGIN:DAYLIGHT
TZOFFSETFROM:-0500
TZOFFSETTO:-0400
TZNAME:EDT
DTSTART:20250309T070000
END:DAYLIGHT
BEGIN:STANDARD
TZOFFSETFROM:-0400
TZOFFSETTO:-0500
TZNAME:EST
DTSTART:20251102T060000
END:STANDARD
BEGIN:DAYLIGHT
TZOFFSETFROM:-0500
TZOFFSETTO:-0400
TZNAME:EDT
DTSTART:20260308T070000
END:DAYLIGHT
BEGIN:STANDARD
TZOFFSETFROM:-0400
TZOFFSETTO:-0500
TZNAME:EST
DTSTART:20261101T060000
END:STANDARD
END:VTIMEZONE
BEGIN:VEVENT
DTSTART;TZID=America/New_York:20260417T190000
DTEND;TZID=America/New_York:20260417T210000
DTSTAMP:20260421T082723
CREATED:20260308T210724Z
LAST-MODIFIED:20260308T210724Z
UID:10172-1776452400-1776459600@www.balancing4life.com
SUMMARY:Magic of the Circle - Sacred Gathering for Personal Growth
DESCRIPTION:The Magic of the Circle is a sacred circle that meets monthly on a Friday evening providing a space for those who desire to focus on developing deeper connections within themselves and with others. During our time together\, we will engage in ceremony\, share personal insights\, struggles and/or successes as well as gently hold space for one another to be themselves.  \nCOST: $30 Pre-register online \nCAPACITY: 12  Participants: Adults ages 16 and up. \nThe Magic of the Circle is a sacred circle that meets monthly on a Friday evening providing a space for those who desire to focus on developing deeper connections within themselves and with others.  During our time together\, we will engage in ceremony\, share personal insights\, struggles and/or successes as well as gently hold space for one another to be themselves.  \nThis is a welcoming\, supportive circle and a great way to start the weekend.  All are welcome. Sessions are hosted and facilitated by Anca Chelaru & Mary Streche who have experienced for themselves the healing power of the circle and are now called to share it with others in a sacred space. They have been holding regular circles together since 2022 and run public circles throughout Westchester County\, NY.  \nAnca Chelaru practices Reiki Fusion\, weaving Reiki\, shamanic practices\, sound healing\, crystal healing\, and plant medicine to cultivate a harmonious environment that empowers self-healing. She lives in Yonkers with her family and her parents. \nMary Streche is an ICF-certified coach\, facilitator\, and communicator who specializes in helping individuals\, teams\, and companies navigate change. She brings a grounding presence to her work\, helping others move through today’s complex environment. She lives in Westchester County with her three children. 
URL:https://www.balancing4life.com/event/magic-of-the-circle-sacred-gathering-for-personal-growth-3/
LOCATION:Balancing 4 Life\, 495 Main Street\, Suite 205\, Armonk\, 10504\, United States
CATEGORIES:Magic of the Circle
ATTACH;FMTTYPE=image/png:https://www.balancing4life.com/wp-content/uploads/2024/05/Magic-of-the-Circle-1.png
END:VEVENT
BEGIN:VEVENT
DTSTART;TZID=America/New_York:20260320T190000
DTEND;TZID=America/New_York:20260320T210000
DTSTAMP:20260421T082723
CREATED:20260312T002320Z
LAST-MODIFIED:20260312T002320Z
UID:10244-1774033200-1774040400@www.balancing4life.com
SUMMARY:Magic of the Circle
DESCRIPTION:The Magic of the Circle is a sacred circle that meets monthly on a Friday evening providing a space for those who desire to focus on developing deeper connections within themselves and with others.  During our time together\, we will engage in ceremony\, share personal insights\, struggles and/or successes as well as gently hold space for one another to be themselves.  \nYoga mats\, cushions and blankets will be provided for sitting. Feel free to bring your own. Chairs also available. Cancellation policy is 24 hrs. notice for refunds from any Balancing 4 Life program. $30 \nThis is a welcoming\, supportive circle and a great way to start the weekend.  All are welcome. The sessions are hosted and facilitated by Anca Chelaru & Mary Streche who have experienced for themselves the healing power of the circle and are now called to share it with others in a sacred space. They have been holding regular circles together since 2022 and run public circles throughout Westchester County\, NY.  \nAnca Chelaru practices Reiki Fusion\, weaving Reiki\, shamanic practices\, sound healing\, crystal healing\, and plant medicine to cultivate a harmonious environment that empowers self-healing. She lives in Yonkers with her family and her parents.  \nMary Streche is an ICF-certified coach\, facilitator\, and communicator who specializes in helping individuals\, teams\, and companies navigate change. She brings a grounding presence to her work\, helping others move through today’s complex environment. She lives in Westchester County with her three children. \n 
URL:https://www.balancing4life.com/event/magic-of-the-circle-13/
LOCATION:Balancing 4 Life\, 495 Main Street\, Suite 205\, Armonk\, 10504\, United States
CATEGORIES:Magic of the Circle
ATTACH;FMTTYPE=image/png:https://www.balancing4life.com/wp-content/uploads/2024/05/Magic-of-the-Circle-1.png
ORGANIZER;CN="Balancing 4 Life":MAILTO:balancing4lifeusa@gmail.com
END:VEVENT
BEGIN:VEVENT
DTSTART;TZID=America/New_York:20260227T190000
DTEND;TZID=America/New_York:20260227T210000
DTSTAMP:20260421T082723
CREATED:20260209T220506Z
LAST-MODIFIED:20260209T220939Z
UID:9962-1772218800-1772226000@www.balancing4life.com
SUMMARY:Magic of the Circle - Sacred Gathering for Personal Growth
DESCRIPTION:The Magic of the Circle is a sacred circle that meets monthly on a Friday evening providing a space for those who desire to focus on developing deeper connections within themselves and with others.  During our time together\, we will engage in ceremony\, share personal insights\, struggles and/or successes as well as gently hold space for one another to be themselves.  \nYoga mats\, cushions and blankets will be provided for sitting. Feel free to bring your own. Chairs also available. Cancellation policy is 24 hrs. notice for refunds from any Balancing 4 Life program. $30 \nThis is a welcoming\, supportive circle and a great way to start the weekend.  All are welcome. The sessions are hosted and facilitated by Anca Chelaru & Mary Streche who have experienced for themselves the healing power of the circle and are now called to share it with others in a sacred space. They have been holding regular circles together since 2022 and run public circles throughout Westchester County\, NY.  \nAnca Chelaru practices Reiki Fusion\, weaving Reiki\, shamanic practices\, sound healing\, crystal healing\, and plant medicine to cultivate a harmonious environment that empowers self-healing. She lives in Yonkers with her family and her parents.  \nMary Streche is an ICF-certified coach\, facilitator\, and communicator who specializes in helping individuals\, teams\, and companies navigate change. She brings a grounding presence to her work\, helping others move through today’s complex environment. She lives in Westchester County with her three children. \n 
URL:https://www.balancing4life.com/event/magic-of-the-circle-sacred-gathering-for-personal-growth/
LOCATION:Balancing 4 Life\, 495 Main Street\, Suite 205\, Armonk\, 10504\, United States
CATEGORIES:Magic of the Circle
ATTACH;FMTTYPE=image/png:https://www.balancing4life.com/wp-content/uploads/2024/05/Magic-of-the-Circle-1.png
END:VEVENT
BEGIN:VEVENT
DTSTART;TZID=America/New_York:20260123T190000
DTEND;TZID=America/New_York:20260123T210000
DTSTAMP:20260421T082723
CREATED:20251213T202144Z
LAST-MODIFIED:20251213T202144Z
UID:9653-1769194800-1769202000@www.balancing4life.com
SUMMARY:Magic of the Circle
DESCRIPTION:The Magic of the Circle is a sacred circle that meets monthly on a Friday evening providing a space for those who desire to focus on developing deeper connections within themselves and with others.  During our time together\, we will engage in ceremony\, share personal insights\, struggles and/or successes as well as gently hold space for one another to be themselves.  \nYoga mats\, cushions and blankets will be provided for sitting. Feel free to bring your own. Chairs also available. Cancellation policy is 24 hrs. notice for refunds from any Balancing 4 Life program. $30 \nThis is a welcoming\, supportive circle and a great way to start the weekend.  All are welcome. The sessions are hosted and facilitated by Anca Chelaru & Mary Streche who have experienced for themselves the healing power of the circle and are now called to share it with others in a sacred space. They have been holding regular circles together since 2022 and run public circles throughout Westchester County\, NY.  \nAnca Chelaru practices Reiki Fusion\, weaving Reiki\, shamanic practices\, sound healing\, crystal healing\, and plant medicine to cultivate a harmonious environment that empowers self-healing. She lives in Yonkers with her family and her parents.  \nMary Streche is an ICF-certified coach\, facilitator\, and communicator who specializes in helping individuals\, teams\, and companies navigate change. She brings a grounding presence to her work\, helping others move through today’s complex environment. She lives in Westchester County with her three children. \n 
URL:https://www.balancing4life.com/event/magic-of-the-circle-12/
LOCATION:Balancing 4 Life\, 495 Main Street\, Suite 205\, Armonk\, 10504\, United States
CATEGORIES:Magic of the Circle
ATTACH;FMTTYPE=image/png:https://www.balancing4life.com/wp-content/uploads/2024/05/Magic-of-the-Circle-1.png
ORGANIZER;CN="Balancing 4 Life":MAILTO:balancing4lifeusa@gmail.com
END:VEVENT
BEGIN:VEVENT
DTSTART;TZID=America/New_York:20251219T190000
DTEND;TZID=America/New_York:20251219T203000
DTSTAMP:20260421T082723
CREATED:20251110T184720Z
LAST-MODIFIED:20251110T184720Z
UID:9566-1766170800-1766176200@www.balancing4life.com
SUMMARY:Magic of the Circle
DESCRIPTION:The Magic of the Circle is a sacred circle that meets monthly on a Friday evening providing a space for those who desire to focus on developing deeper connections within themselves and with others.  During our time together\, we will engage in ceremony\, share personal insights\, struggles and/or successes as well as gently hold space for one another to be themselves.  \nYoga mats\, cushions and blankets will be provided for sitting. Feel free to bring your own. Chairs also available. Cancellation policy is 24 hrs. notice for refunds from any Balancing 4 Life program. $30 \nThis is a welcoming\, supportive circle and a great way to start the weekend.  All are welcome. The sessions are hosted and facilitated by Anca Chelaru & Mary Streche who have experienced for themselves the healing power of the circle and are now called to share it with others in a sacred space. They have been holding regular circles together since 2022 and run public circles throughout Westchester County\, NY.  \nAnca Chelaru practices Reiki Fusion\, weaving Reiki\, shamanic practices\, sound healing\, crystal healing\, and plant medicine to cultivate a harmonious environment that empowers self-healing. She lives in Yonkers with her family and her parents.  \nMary Streche is an ICF-certified coach\, facilitator\, and communicator who specializes in helping individuals\, teams\, and companies navigate change. She brings a grounding presence to her work\, helping others move through today’s complex environment. She lives in Westchester County with her three children. \n 
URL:https://www.balancing4life.com/event/magic-of-the-circle-11/
LOCATION:Balancing 4 Life\, 495 Main Street\, Suite 205\, Armonk\, 10504\, United States
CATEGORIES:Magic of the Circle
ATTACH;FMTTYPE=image/png:https://www.balancing4life.com/wp-content/uploads/2024/05/Magic-of-the-Circle-1.png
END:VEVENT
BEGIN:VEVENT
DTSTART;TZID=America/New_York:20251121T190000
DTEND;TZID=America/New_York:20251121T210000
DTSTAMP:20260421T082723
CREATED:20251020T151047Z
LAST-MODIFIED:20251110T184248Z
UID:9474-1763751600-1763758800@www.balancing4life.com
SUMMARY:Magic of the Circle
DESCRIPTION:The Magic of the Circle is a sacred circle that meets monthly on a Friday evening providing a space for those who desire to focus on developing deeper connections within themselves and with others.  During our time together\, we will engage in ceremony\, share personal insights\, struggles and/or successes as well as gently hold space for one another to be themselves.  \nYoga mats\, cushions and blankets will be provided for sitting. Feel free to bring your own. Chairs also available. Cancellation policy is 24 hrs. notice for refunds from any Balancing 4 Life program. $30 \nThis is a welcoming\, supportive circle and a great way to start the weekend.  All are welcome. The sessions are hosted and facilitated by Anca Chelaru & Mary Streche who have experienced for themselves the healing power of the circle and are now called to share it with others in a sacred space. They have been holding regular circles together since 2022 and run public circles throughout Westchester County\, NY. Anca Chelaru practices Reiki Fusion\, weaving Reiki\, shamanic practices\, sound healing\, crystal healing\, and plant medicine to cultivate a harmonious environment that empowers self-healing. She lives in Yonkers with her family and her parents. Mary Streche is an ICF-certified coach\, facilitator\, and communicator who specializes in helping individuals\, teams\, and companies navigate change. She brings a grounding presence to her work\, helping others move through today’s complex environment. She lives in Westchester County with her three children.   \n 
URL:https://www.balancing4life.com/event/magic-of-the-circle-10/
LOCATION:Balancing 4 Life\, 495 Main Street\, Suite 205\, Armonk\, 10504\, United States
CATEGORIES:Magic of the Circle
ATTACH;FMTTYPE=image/png:https://www.balancing4life.com/wp-content/uploads/2024/05/Magic-of-the-Circle-1.png
ORGANIZER;CN="Balancing 4 Life":MAILTO:balancing4lifeusa@gmail.com
END:VEVENT
BEGIN:VEVENT
DTSTART;TZID=America/New_York:20251024T190000
DTEND;TZID=America/New_York:20251024T210000
DTSTAMP:20260421T082723
CREATED:20250908T175418Z
LAST-MODIFIED:20250908T175418Z
UID:9169-1761332400-1761339600@www.balancing4life.com
SUMMARY:Magic of the Circle
DESCRIPTION:The Magic of the Circle is a sacred circle that meets monthly on a Friday evening providing a space for those who desire to focus on developing deeper connections within themselves and with others.  During our time together\, we will engage in ceremony\, share personal insights\, struggles and/or successes as well as gently hold space for one another to be themselves.  \nYoga mats\, cushions and blankets will be provided for sitting. Feel free to bring your own. Chairs also available. Cancellation policy is 24 hrs. notice for refunds from any Balancing 4 Life program. $30 \nThis is a welcoming\, supportive circle and a great way to start the weekend.  All are welcome.  The Magic of the Circle is hosted by members of “A Little Bit of Woo”\, a collective of three women\, Anne\, Anca\, and Mary.  All have experienced for themselves the healing power of sharing within a sacred circle of confidentiality.  These three dedicated women are now called to share their circle with others to experience similar healing magic.   \n 
URL:https://www.balancing4life.com/event/magic-of-the-circle-9/
LOCATION:Balancing 4 Life\, 495 Main Street\, Suite 205\, Armonk\, 10504\, United States
CATEGORIES:Magic of the Circle
ATTACH;FMTTYPE=image/png:https://www.balancing4life.com/wp-content/uploads/2024/05/Magic-of-the-Circle-1.png
ORGANIZER;CN="Balancing 4 Life":MAILTO:balancing4lifeusa@gmail.com
END:VEVENT
BEGIN:VEVENT
DTSTART;TZID=UTC:20250919T190000
DTEND;TZID=UTC:20250919T210000
DTSTAMP:20260421T082723
CREATED:20250812T190825Z
LAST-MODIFIED:20250812T191459Z
UID:8955-1758308400-1758315600@www.balancing4life.com
SUMMARY:Magic of the Circle
DESCRIPTION:The Magic of the Circle is a sacred circle that meets monthly on a Friday evening providing a space for those who desire to focus on developing deeper connections within themselves and with others.  During our time together\, we will engage in ceremony\, share personal insights\, struggles and/or successes as well as gently hold space for one another to be themselves. \nTIME: 7-9 PM \nCOST: $30 Must pre-register online with CC or use cash\, check or Zelle at the door \nCAPACITY: 12  Participants: Adults ages 16 and up. \nYoga mats\, cushions and blankets will be provided for sitting. Feel free to bring your own. Chairs also available. Cancellation policy is 24 hrs. notice for refunds from any Balancing 4 Life program. \nThis is a welcoming\, supportive circle and a great way to start the weekend.  All are welcome.  The Magic of the Circle is hosted by members of “A Little Bit of Woo”\, a collective of three women\, Anne\, Anca and Mary.  All have experienced for themselves the healing power of sharing within a sacred circle of confidentiality.  These three women are now called to share their circle with others to experience similar healing magic.
URL:https://www.balancing4life.com/event/magic-of-the-circle-8/
LOCATION:Balancing 4 Life\, 495 Main Street\, Suite 205\, Armonk\, 10504\, United States
CATEGORIES:Magic of the Circle
ATTACH;FMTTYPE=image/png:https://www.balancing4life.com/wp-content/uploads/2024/05/Magic-of-the-Circle-1.png
ORGANIZER;CN="Balancing 4 Life":MAILTO:balancing4lifeusa@gmail.com
END:VEVENT
BEGIN:VEVENT
DTSTART;TZID=UTC:20250718T190000
DTEND;TZID=UTC:20250718T210000
DTSTAMP:20260421T082723
CREATED:20250610T062146Z
LAST-MODIFIED:20250610T062534Z
UID:8760-1752865200-1752872400@www.balancing4life.com
SUMMARY:Magic of the Circle
DESCRIPTION:The Magic of the Circle is a sacred circle that meets monthly on a Friday evening providing a space for those who desire to focus on developing deeper connections within themselves and with others.  During our time together\, we will engage in ceremony\, share personal insights\, struggles and/or successes as well as gently hold space for one another to be themselves.  \nTIME: 7-9 PM \nCOST: $30 Pre-register online \nCAPACITY: 12  Participants: Adults ages 16 and up. \nYoga mats\, cushions and blankets will be provided for sitting. Feel free to bring your own. Chairs also available. Cancellation policy is 24 hrs. notice for refunds from any Balancing 4 Life program. \nThis is a welcoming\, supportive circle and a great way to start the weekend.  All are welcome.  The Magic of the Circle is hosted by members of “A Little Bit of Woo”\, a collective of four women\, Anne\, Anca\, Michelle and Mary.  All have experienced for themselves the healing power of sharing within a sacred circle of confidentiality.  These four women are now called to share their circle with others to experience similar healing magic. 
URL:https://www.balancing4life.com/event/magic-of-the-circle-6/
LOCATION:Balancing 4 Life\, 495 Main Street\, Suite 205\, Armonk\, 10504\, United States
CATEGORIES:Magic of the Circle
ATTACH;FMTTYPE=image/jpeg:https://www.balancing4life.com/wp-content/uploads/2024/12/colorful-texture-background.avif
ORGANIZER;CN="Balancing 4 Life":MAILTO:balancing4lifeusa@gmail.com
END:VEVENT
BEGIN:VEVENT
DTSTART;TZID=UTC:20250627T190000
DTEND;TZID=UTC:20250627T210000
DTSTAMP:20260421T082723
CREATED:20250510T050053Z
LAST-MODIFIED:20250510T050053Z
UID:8657-1751050800-1751058000@www.balancing4life.com
SUMMARY:Magic of the Circle - Connections for Personal Growth
DESCRIPTION:The Magic of the Circle is a sacred circle that meets monthly on a Friday evening providing a space for those who desire to focus on developing deeper connections within themselves and with others.  During our time together\, we will engage in ceremony\, share personal insights\, struggles and/or successes as well as gently hold space for one another to be themselves. \nYoga mats\, cushions and blankets will be provided for sitting. Feel free to bring your own. Chairs also available. Cancellation policy is 24 hrs. notice for refunds from any Balancing 4 Life program. \nThis is a welcoming\, supportive circle and a great way to start the weekend.  All are welcome.  The Magic of the Circle is hosted by members of “A Little Bit of Woo”\, a collective of four women\, Anne\, Anca\, Michelle and Mary.  All have experienced for themselves the healing power of sharing within a sacred circle of confidentiality.  These four women are now called to share their circle with others to experience similar healing magic.
URL:https://www.balancing4life.com/event/magic-of-the-circle-connections-for-personal-growth/
LOCATION:Balancing 4 Life\, 495 Main Street\, Suite 205\, Armonk\, 10504\, United States
CATEGORIES:Magic of the Circle
ATTACH;FMTTYPE=image/png:https://www.balancing4life.com/wp-content/uploads/2024/05/Magic-of-the-Circle-1.png
ORGANIZER;CN="Balancing 4 Life":MAILTO:balancing4lifeusa@gmail.com
END:VEVENT
BEGIN:VEVENT
DTSTART;TZID=UTC:20250328T190000
DTEND;TZID=UTC:20250328T210000
DTSTAMP:20260421T082723
CREATED:20250205T223230Z
LAST-MODIFIED:20250328T222036Z
UID:7880-1743188400-1743195600@www.balancing4life.com
SUMMARY:Magic of the Circle - March 28th Cancelled
DESCRIPTION:The Magic of the Circle is a sacred circle that meets monthly on a Friday evening providing a space for those who desire to focus on developing deeper connections within themselves and with others.  Make connections for personal growth. During our time together\, we will engage in ceremony\, share personal insights\, struggles and/or successes as well as gently hold space for one another to be themselves. \n$30.  Limited to 12 people ages 16 and up.  Yoga mats\, cushions and blankets will be provided for sitting. Feel free to bring your own. Chairs also available. Cancellation policy is 24 hrs. notice for refunds from any Balancing 4 Life program.
URL:https://www.balancing4life.com/event/magic-of-the-circle-3/
CATEGORIES:Magic of the Circle
ATTACH;FMTTYPE=image/png:https://www.balancing4life.com/wp-content/uploads/2024/05/Magic-of-the-Circle-1.png
END:VEVENT
BEGIN:VEVENT
DTSTART;TZID=UTC:20250228T190000
DTEND;TZID=UTC:20250228T210000
DTSTAMP:20260421T082723
CREATED:20250205T223048Z
LAST-MODIFIED:20250205T225606Z
UID:7878-1740769200-1740776400@www.balancing4life.com
SUMMARY:Magic of the Circle
DESCRIPTION:The Magic of the Circle is a sacred circle that meets monthly on a Friday evening providing a space for those who desire to focus on developing deeper connections within themselves and with others.  Make connections for personal growth.  During our time together\, we will engage in ceremony\, share personal insights\, struggles and/or successes as well as gently hold space for one another to be themselves. \n$30.  Limited to 12 people ages 16 and up.  Yoga mats\, cushions and blankets will be provided for sitting. Feel free to bring your own.  Chairs also available. Cancellation policy is 24 hrs. notice for refunds from any Balancing 4 Life program.
URL:https://www.balancing4life.com/event/magic-of-the-circle-2/
LOCATION:Balancing 4 Life\, 495 Main Street\, Suite 205\, Armonk\, 10504\, United States
CATEGORIES:Magic of the Circle
ATTACH;FMTTYPE=image/png:https://www.balancing4life.com/wp-content/uploads/2024/05/Magic-of-the-Circle-1.png
END:VEVENT
BEGIN:VEVENT
DTSTART;TZID=America/New_York:20250124T190000
DTEND;TZID=America/New_York:20250124T210000
DTSTAMP:20260421T082723
CREATED:20250106T070532Z
LAST-MODIFIED:20250106T070532Z
UID:7501-1737745200-1737752400@www.balancing4life.com
SUMMARY:Magic of the Circle
DESCRIPTION:The Magic of the Circle is a sacred circle that meets monthly on a Friday evening providing a space for those who desire to focus on developing deeper connections within themselves and with others.  During our time together\, we will engage in ceremony\, share personal insights\, struggles and/or successes as well as gently hold space for one another to be themselves. \n$30.  Limited to 12 people ages 16 and up.  Yoga mats\, cushions and blankets will be provided for sitting. Feel free to bring your own. Chairs also available. Cancellation policy is 24 hrs. notice for refunds from any Balancing 4 Life program.
URL:https://www.balancing4life.com/event/magic-of-the-circle/
LOCATION:Balancing 4 Life\, 495 Main Street\, Suite 205\, Armonk\, 10504\, United States
CATEGORIES:Magic of the Circle
END:VEVENT
END:VCALENDAR