BEGIN:VCALENDAR
VERSION:2.0
PRODID:-//Balancing 4 Life - ECPv6.15.20//NONSGML v1.0//EN
CALSCALE:GREGORIAN
METHOD:PUBLISH
X-ORIGINAL-URL:https://www.balancing4life.com
X-WR-CALDESC:Events for Balancing 4 Life
REFRESH-INTERVAL;VALUE=DURATION:PT1H
X-Robots-Tag:noindex
X-PUBLISHED-TTL:PT1H
BEGIN:VTIMEZONE
TZID:UTC
BEGIN:STANDARD
TZOFFSETFROM:+0000
TZOFFSETTO:+0000
TZNAME:UTC
DTSTART:20240101T000000
END:STANDARD
END:VTIMEZONE
BEGIN:VEVENT
DTSTART;TZID=UTC:20250718T190000
DTEND;TZID=UTC:20250718T210000
DTSTAMP:20260422T213816
CREATED:20250610T062146Z
LAST-MODIFIED:20250610T062534Z
UID:8760-1752865200-1752872400@www.balancing4life.com
SUMMARY:Magic of the Circle
DESCRIPTION:The Magic of the Circle is a sacred circle that meets monthly on a Friday evening providing a space for those who desire to focus on developing deeper connections within themselves and with others.  During our time together\, we will engage in ceremony\, share personal insights\, struggles and/or successes as well as gently hold space for one another to be themselves.  \nTIME: 7-9 PM \nCOST: $30 Pre-register online \nCAPACITY: 12  Participants: Adults ages 16 and up. \nYoga mats\, cushions and blankets will be provided for sitting. Feel free to bring your own. Chairs also available. Cancellation policy is 24 hrs. notice for refunds from any Balancing 4 Life program. \nThis is a welcoming\, supportive circle and a great way to start the weekend.  All are welcome.  The Magic of the Circle is hosted by members of “A Little Bit of Woo”\, a collective of four women\, Anne\, Anca\, Michelle and Mary.  All have experienced for themselves the healing power of sharing within a sacred circle of confidentiality.  These four women are now called to share their circle with others to experience similar healing magic. 
URL:https://www.balancing4life.com/event/magic-of-the-circle-6/
LOCATION:Balancing 4 Life\, 495 Main Street\, Suite 205\, Armonk\, 10504\, United States
CATEGORIES:Magic of the Circle
ATTACH;FMTTYPE=image/jpeg:https://www.balancing4life.com/wp-content/uploads/2024/12/colorful-texture-background.avif
ORGANIZER;CN="Balancing 4 Life":MAILTO:balancing4lifeusa@gmail.com
END:VEVENT
END:VCALENDAR