BEGIN:VCALENDAR
VERSION:2.0
PRODID:-//Balancing 4 Life - ECPv6.15.20//NONSGML v1.0//EN
CALSCALE:GREGORIAN
METHOD:PUBLISH
X-WR-CALNAME:Balancing 4 Life
X-ORIGINAL-URL:https://www.balancing4life.com
X-WR-CALDESC:Events for Balancing 4 Life
REFRESH-INTERVAL;VALUE=DURATION:PT1H
X-Robots-Tag:noindex
X-PUBLISHED-TTL:PT1H
BEGIN:VTIMEZONE
TZID:UTC
BEGIN:STANDARD
TZOFFSETFROM:+0000
TZOFFSETTO:+0000
TZNAME:UTC
DTSTART:20240101T000000
END:STANDARD
END:VTIMEZONE
BEGIN:VEVENT
DTSTART;TZID=UTC:20250328T110000
DTEND;TZID=UTC:20250328T130000
DTSTAMP:20260421T171927
CREATED:20250223T035825Z
LAST-MODIFIED:20250223T035825Z
UID:8134-1743159600-1743166800@www.balancing4life.com
SUMMARY:LUNCH RESET:  Relax and Replenish Your Energy
DESCRIPTION:WELCOME TO LUNCH RESET Refreshers- \nLife is hectic and unpredictable these days! Give yourself a quick break during the week at lunchtime to experience deep relaxation.  RESET your nervous system for 30 minutes and return to work refreshed for the afternoon!   Your body\, mind and spirit will thank you for it!   \nCHOOSE: your “Pick-me-up” –  REIKI or BEMER Therapy or both with Anne Bentzen \nDAYS AVAILABLE:  Wednesday – Friday  11 AM – 1 PM  (Begins March 5th. Occasional exceptions may occur) \nTIMES:  4 SLOTS PER DAY – 30 minutes each: 11:00AM;  11:30AM; 12:00PM; 12:30PM \nCOST:  $40  Courtesy cancellation policy 24 hrs. in advance. \nAnne Bentzen is the owner of Balancing 4 Life and a authorized teacher with the Jikiden Reiki Institute of Kyoto\, Japan.  She is also an independent distributor for BEMER USA and a big advocate for the health benefits of BEMER.
URL:https://www.balancing4life.com/event/lunch-reset-relax-and-replenish-your-energy-10/
LOCATION:Balancing 4 Life\, 495 Main Street\, Suite 205\, Armonk\, 10504\, United States
CATEGORIES:LUNCH RESET Refreshers
ATTACH;FMTTYPE=image/jpeg:https://www.balancing4life.com/wp-content/uploads/2025/02/brett-jordan-fswQZLlHC3Y-unsplash-scaled.avif
ORGANIZER;CN="Balancing 4 Life":MAILTO:balancing4lifeusa@gmail.com
END:VEVENT
BEGIN:VEVENT
DTSTART;TZID=UTC:20250327T110000
DTEND;TZID=UTC:20250327T130000
DTSTAMP:20260421T171927
CREATED:20250223T035637Z
LAST-MODIFIED:20250223T035637Z
UID:8132-1743073200-1743080400@www.balancing4life.com
SUMMARY:LUNCH RESET:  Relax and Replenish Your Energy
DESCRIPTION:WELCOME TO LUNCH RESET Refreshers- \nLife is hectic and unpredictable these days! Give yourself a quick break during the week at lunchtime to experience deep relaxation.  RESET your nervous system for 30 minutes and return to work refreshed for the afternoon!   Your body\, mind and spirit will thank you for it!   \nCHOOSE: your “Pick-me-up” –  REIKI or BEMER Therapy or both with Anne Bentzen \nDAYS AVAILABLE:  Wednesday – Friday  11 AM – 1 PM  (Begins March 5th. Occasional exceptions may occur) \nTIMES:  4 SLOTS PER DAY – 30 minutes each: 11:00AM;  11:30AM; 12:00PM; 12:30PM \nCOST:  $40  Courtesy cancellation policy 24 hrs. in advance. \nAnne Bentzen is the owner of Balancing 4 Life and a authorized teacher with the Jikiden Reiki Institute of Kyoto\, Japan.  She is also an independent distributor for BEMER USA and a big advocate for the health benefits of BEMER.
URL:https://www.balancing4life.com/event/lunch-reset-relax-and-replenish-your-energy-9/
LOCATION:Balancing 4 Life\, 495 Main Street\, Suite 205\, Armonk\, 10504\, United States
CATEGORIES:LUNCH RESET Refreshers
ATTACH;FMTTYPE=image/jpeg:https://www.balancing4life.com/wp-content/uploads/2025/02/brett-jordan-fswQZLlHC3Y-unsplash-scaled.avif
ORGANIZER;CN="Balancing 4 Life":MAILTO:balancing4lifeusa@gmail.com
END:VEVENT
BEGIN:VEVENT
DTSTART;TZID=UTC:20250326T110000
DTEND;TZID=UTC:20250326T130000
DTSTAMP:20260421T171927
CREATED:20250223T032820Z
LAST-MODIFIED:20250223T035504Z
UID:8125-1742986800-1742994000@www.balancing4life.com
SUMMARY:LUNCH RESET:  Relax and Replenish Your Energy
DESCRIPTION:WELCOME TO LUNCH RESET Refreshers- \nLife is hectic and unpredictable these days! Give yourself a quick break during the week at lunchtime to experience deep relaxation.  RESET your nervous system for 30 minutes and return to work refreshed for the afternoon!   Your body\, mind and spirit will thank you for it!   \nCHOOSE: your “Pick-me-up” –  REIKI or BEMER Therapy or both with Anne Bentzen \nDAYS AVAILABLE:  Wednesday – Friday  11 AM – 1 PM  (Begins March 5th. Occasional exceptions may occur) \nTIMES:  4 SLOTS PER DAY – 30 minutes each: 11:00AM;  11:30AM; 12:00PM; 12:30PM \nCOST:  $40  Courtesy cancellation policy 24 hrs. in advance. \nAnne Bentzen is the owner of Balancing 4 Life and a authorized teacher with the Jikiden Reiki Institute of Kyoto\, Japan.  She is also an independent distributor for BEMER USA and a big advocate for the health benefits of BEMER.
URL:https://www.balancing4life.com/event/lunch-reset-relax-and-replenish-your-energy-7/
LOCATION:Balancing 4 Life\, 495 Main Street\, Suite 205\, Armonk\, 10504\, United States
CATEGORIES:LUNCH RESET Refreshers
ATTACH;FMTTYPE=image/jpeg:https://www.balancing4life.com/wp-content/uploads/2025/02/brett-jordan-fswQZLlHC3Y-unsplash-scaled.avif
ORGANIZER;CN="Balancing 4 Life":MAILTO:balancing4lifeusa@gmail.com
END:VEVENT
BEGIN:VEVENT
DTSTART;TZID=UTC:20250321T110000
DTEND;TZID=UTC:20250321T130000
DTSTAMP:20260421T171927
CREATED:20250223T034828Z
LAST-MODIFIED:20250223T040014Z
UID:8127-1742554800-1742562000@www.balancing4life.com
SUMMARY:LUNCH RESET:  Relax and Replenish Your Energy
DESCRIPTION:WELCOME TO LUNCH RESET Refreshers- \nLife is hectic and unpredictable these days! Give yourself a quick break during the week at lunchtime.  RESET your nervous system for 30 minutes and return to work refreshed for the afternoon!   Your body\, mind and spirit will thank you for it!   \nCHOOSE: your “Pick-me-up” –  REIKI or BEMER Therapy or both with Anne Bentzen \nDAYS AVAILABLE:  Wednesday – Friday  11 AM – 1 PM  (Begins March 5th. Occasional exceptions may occur) \nTIMES:  4 SLOTS PER DAY – 30 minutes each: 11:00AM;  11:30AM; 12:00PM; 12:30PM \nCOST:  $40  Courtesy cancellation policy 24 hrs. in advance. \nAnne Bentzen is the owner of Balancing 4 Life and a authorized teacher with the Jikiden Reiki Institute of Kyoto\, Japan.  She is also an independent distributor for BEMER USA and a big advocate for the health benefits of BEMER.
URL:https://www.balancing4life.com/event/lunch-reset-relax-and-replenish-your-energy-8/
LOCATION:Balancing 4 Life\, 495 Main Street\, Suite 205\, Armonk\, 10504\, United States
CATEGORIES:LUNCH RESET Refreshers
ATTACH;FMTTYPE=image/jpeg:https://www.balancing4life.com/wp-content/uploads/2025/02/brett-jordan-fswQZLlHC3Y-unsplash-scaled.avif
ORGANIZER;CN="Balancing 4 Life":MAILTO:balancing4lifeusa@gmail.com
END:VEVENT
BEGIN:VEVENT
DTSTART;TZID=UTC:20250320T110000
DTEND;TZID=UTC:20250320T130000
DTSTAMP:20260421T171927
CREATED:20250223T031730Z
LAST-MODIFIED:20250310T212645Z
UID:8120-1742468400-1742475600@www.balancing4life.com
SUMMARY:LUNCH RESET:  Relax and Replenish Your Energy
DESCRIPTION:WELCOME TO LUNCH RESET Refreshers- \nLife is hectic and unpredictable these days! Give yourself a quick break during the week at lunchtime to experience deep relaxation.  RESET your nervous system for 30 minutes and return to work refreshed for the afternoon!   Your body\, mind and spirit will thank you for it!   \nCHOOSE: your “Pick-me-up” –  REIKI or BEMER Therapy or both with Anne Bentzen \nDAYS AVAILABLE:  Tuesday – Friday  11 AM – 1 PM  (Begins March 5th. Occasional exceptions may occur) \nTIMES:  4 SLOTS PER DAY – 30 minutes each: 11:00AM;  11:30AM; 12:00PM; 12:30PM \nCOST:  $40  Courtesy cancellation policy 24 hrs. in advance. \nAnne Bentzen is the owner of Balancing 4 Life and a authorized teacher with the Jikiden Reiki Institute of Kyoto\, Japan.  She is also an independent distributor for BEMER USA and a big advocate for the health benefits of BEMER.
URL:https://www.balancing4life.com/event/lunch-reset-relax-and-replenish-your-energy-5/
LOCATION:Balancing 4 Life\, 495 Main Street\, Suite 205\, Armonk\, 10504\, United States
CATEGORIES:LUNCH RESET Refreshers
ATTACH;FMTTYPE=image/jpeg:https://www.balancing4life.com/wp-content/uploads/2025/02/brett-jordan-fswQZLlHC3Y-unsplash-scaled.avif
ORGANIZER;CN="Balancing 4 Life":MAILTO:balancing4lifeusa@gmail.com
END:VEVENT
BEGIN:VEVENT
DTSTART;TZID=UTC:20250319T110000
DTEND;TZID=UTC:20250319T130000
DTSTAMP:20260421T171927
CREATED:20250223T031932Z
LAST-MODIFIED:20250223T032520Z
UID:8122-1742382000-1742389200@www.balancing4life.com
SUMMARY:LUNCH RESET:  Relax and Replenish Your Energy
DESCRIPTION:WELCOME TO LUNCH RESET Refreshers- \nLife is hectic and unpredictable these days! Give yourself a quick break during the week at lunchtime to experience deep relaxation.  RESET your nervous system for 30 minutes and return to work refreshed for the afternoon!   Your body\, mind and spirit will thank you for it!   \nCHOOSE: your “Pick-me-up” –  REIKI or BEMER Therapy or both with Anne Bentzen \nDAYS AVAILABLE:  Wednesday – Friday  11 AM – 1 PM  (Begins March 5th. Occasional exceptions may occur) \nTIMES:  4 SLOTS PER DAY – 30 minutes each: 11:00AM;  11:30AM; 12:00PM; 12:30PM \nCOST:  $40  Courtesy cancellation policy 24 hrs. in advance. \nAnne Bentzen is the owner of Balancing 4 Life and a authorized teacher with the Jikiden Reiki Institute of Kyoto\, Japan.  She is also an independent distributor for BEMER USA and a big advocate for the health benefits of BEMER.
URL:https://www.balancing4life.com/event/lunch-reset-relax-and-replenish-your-energy-6/
LOCATION:Balancing 4 Life\, 495 Main Street\, Suite 205\, Armonk\, 10504\, United States
CATEGORIES:LUNCH RESET Refreshers
ATTACH;FMTTYPE=image/jpeg:https://www.balancing4life.com/wp-content/uploads/2025/02/brett-jordan-fswQZLlHC3Y-unsplash-scaled.avif
ORGANIZER;CN="Balancing 4 Life":MAILTO:balancing4lifeusa@gmail.com
END:VEVENT
BEGIN:VEVENT
DTSTART;TZID=UTC:20250314T110000
DTEND;TZID=UTC:20250314T130000
DTSTAMP:20260421T171927
CREATED:20250223T031536Z
LAST-MODIFIED:20250223T031536Z
UID:8118-1741950000-1741957200@www.balancing4life.com
SUMMARY:LUNCH RESET:  Relax and Replenish Your Energy
DESCRIPTION:WELCOME TO LUNCH RESET Refreshers- \nLife is hectic and unpredictable these days! Give yourself a quick break during the week at lunchtime to experience deep relaxation.  RESET your nervous system for 30 minutes and return to work refreshed for the afternoon!   Your body\, mind and spirit will thank you for it!   \nCHOOSE: your “Pick-me-up” –  REIKI or BEMER Therapy or both with Anne Bentzen \nDAYS AVAILABLE:  Tuesday – Friday  11 AM – 1 PM  (Begins March 5th. Occasional exceptions may occur) \nTIMES:  4 SLOTS PER DAY – 30 minutes each: 11:00AM;  11:30AM; 12:00PM; 12:30PM \nCOST:  $40  Courtesy cancellation policy 24 hrs. in advance. \nAnne Bentzen is the owner of Balancing 4 Life and a authorized teacher with the Jikiden Reiki Institute of Kyoto\, Japan.  She is also an independent distributor for BEMER USA and a big advocate for the health benefits of BEMER.
URL:https://www.balancing4life.com/event/lunch-reset-relax-and-replenish-your-energy-4/
LOCATION:Balancing 4 Life\, 495 Main Street\, Suite 205\, Armonk\, 10504\, United States
CATEGORIES:LUNCH RESET Refreshers
ATTACH;FMTTYPE=image/jpeg:https://www.balancing4life.com/wp-content/uploads/2025/02/brett-jordan-fswQZLlHC3Y-unsplash-scaled.avif
ORGANIZER;CN="Balancing 4 Life":MAILTO:balancing4lifeusa@gmail.com
END:VEVENT
BEGIN:VEVENT
DTSTART;TZID=UTC:20250313T110000
DTEND;TZID=UTC:20250313T130000
DTSTAMP:20260421T171927
CREATED:20250223T031344Z
LAST-MODIFIED:20250310T200801Z
UID:8116-1741863600-1741870800@www.balancing4life.com
SUMMARY:LUNCH RESET:  Relax and Replenish Your Energy
DESCRIPTION:WELCOME TO LUNCH RESET Refreshers- \nLife is hectic and unpredictable these days! Give yourself a quick break during the week at lunchtime to experience deep relaxation.  RESET your nervous system for 30 minutes and return to work refreshed for the afternoon!   Your body\, mind and spirit will thank you for it!   \nCHOOSE: your “Pick-me-up” –  REIKI or BEMER Therapy or both with Anne Bentzen \nDAYS AVAILABLE:  Tuesday – Friday  11 AM – 1 PM  (Begins March 5th. Occasional exceptions may occur) \nTIMES:  4 SLOTS PER DAY – 30 minutes each: 11:00AM;  11:30AM; 12:00PM; 12:30PM \nCOST:  $40  Courtesy cancellation policy 24 hrs. in advance. \nAnne Bentzen is the owner of Balancing 4 Life and a authorized teacher with the Jikiden Reiki Institute of Kyoto\, Japan.  She is also an independent distributor for BEMER USA and a big advocate for the health benefits of BEMER.
URL:https://www.balancing4life.com/event/lunch-reset-relax-and-replenish-your-energy-3/
LOCATION:Balancing 4 Life\, 495 Main Street\, Suite 205\, Armonk\, 10504\, United States
CATEGORIES:LUNCH RESET Refreshers
ATTACH;FMTTYPE=image/jpeg:https://www.balancing4life.com/wp-content/uploads/2025/02/brett-jordan-fswQZLlHC3Y-unsplash-scaled.avif
ORGANIZER;CN="Balancing 4 Life":MAILTO:balancing4lifeusa@gmail.com
END:VEVENT
BEGIN:VEVENT
DTSTART;TZID=UTC:20250312T110000
DTEND;TZID=UTC:20250312T130000
DTSTAMP:20260421T171927
CREATED:20250223T031205Z
LAST-MODIFIED:20250223T031205Z
UID:8114-1741777200-1741784400@www.balancing4life.com
SUMMARY:Lunch Reset:  Relax and Replenish Your Energy
DESCRIPTION:WELCOME TO LUNCH RESET Refreshers- \nLife is hectic and unpredictable these days! Give yourself a quick break during the week at lunchtime to experience deep relaxation.  RESET your nervous system for 30 minutes and return to work refreshed for the afternoon!   Your body\, mind and spirit will thank you for it!   \nCHOOSE: your “Pick-me-up” –  REIKI or BEMER Therapy or both with Anne Bentzen \nDAYS AVAILABLE:  Tuesday – Friday  11 AM – 1 PM  (Begins March 5th. Occasional exceptions may occur) \nTIMES:  4 SLOTS PER DAY – 30 minutes each: 11:00AM;  11:30AM; 12:00PM; 12:30PM \nCOST:  $40  Courtesy cancellation policy 24 hrs. in advance. \nAnne Bentzen is the owner of Balancing 4 Life and a authorized teacher with the Jikiden Reiki Institute of Kyoto\, Japan.  She is also an independent distributor for BEMER USA and a big advocate for the health benefits of BEMER.
URL:https://www.balancing4life.com/event/lunch-reset-relax-and-replenish-your-energy-2/
LOCATION:Balancing 4 Life\, 495 Main Street\, Suite 205\, Armonk\, 10504\, United States
CATEGORIES:LUNCH RESET Refreshers
ATTACH;FMTTYPE=image/jpeg:https://www.balancing4life.com/wp-content/uploads/2025/02/brett-jordan-fswQZLlHC3Y-unsplash-scaled.avif
ORGANIZER;CN="Balancing 4 Life":MAILTO:balancing4lifeusa@gmail.com
END:VEVENT
BEGIN:VEVENT
DTSTART;TZID=UTC:20250307T110000
DTEND;TZID=UTC:20250307T130000
DTSTAMP:20260421T171927
CREATED:20250223T030544Z
LAST-MODIFIED:20250223T040250Z
UID:8109-1741345200-1741352400@www.balancing4life.com
SUMMARY:LUNCH RESET: Relax and Replenish your Energy
DESCRIPTION:WELCOME TO LUNCH RESET \nLife is hectic and unpredictable these days! Give yourself a quick break during the week at lunchtime to experience deep relaxation.  RESET your nervous system for 30 minutes and return to work refreshed for the afternoon and the rest of the week!  Your body\, mind and spirit will thank you for it!   \nCHOOSE: your “Pick-me-up” –  REIKI or BEMER Therapy or both with Anne Bentzen \nDAYS AVAILABLE:  Wednesday – Friday  11 AM – 1 PM  (Begins March 5th. Occasional exceptions may occur) \nTIMES:  4 SLOTS PER DAY – 30 minutes each: 11:00AM;  11:30AM; 12:00PM; 12:30PM \nCOST:  $40  Courtesy cancellation policy 24 hrs. in advance. \nAnne Bentzen is the owner of Balancing 4 Life and a authorized teacher with the Jikiden Reiki Institute of Kyoto\, Japan.  She is also an independent distributor for BEMER USA and a big advocate for the health benefits of BEME
URL:https://www.balancing4life.com/event/lunch-reset-relax-and-replenish-your-energy/
LOCATION:Balancing 4 Life\, 495 Main Street\, Suite 205\, Armonk\, 10504\, United States
CATEGORIES:LUNCH RESET Refreshers
ATTACH;FMTTYPE=image/jpeg:https://www.balancing4life.com/wp-content/uploads/2025/02/brett-jordan-fswQZLlHC3Y-unsplash-scaled.avif
ORGANIZER;CN="Balancing 4 Life":MAILTO:balancing4lifeusa@gmail.com
END:VEVENT
BEGIN:VEVENT
DTSTART;TZID=UTC:20250306T110000
DTEND;TZID=UTC:20250306T130000
DTSTAMP:20260421T171927
CREATED:20250221T165138Z
LAST-MODIFIED:20250223T040159Z
UID:8102-1741258800-1741266000@www.balancing4life.com
SUMMARY:LUNCH RESET - Relax and Replenish Your Energy
DESCRIPTION:WELCOME TO LUNCH RESET FOR MARCH  \nLife is hectic and unpredictable these days! Give yourself a quick break during the week at lunchtime.  RESET your nervous system for 30 minutes and return to work refreshed for the afternoon!   Your body\, mind and spirit will thank you for it!   \nCHOOSE: your “Pick-me-up” –  REIKI or BEMER Therapy or both with Anne Bentzen \nDAYS AVAILABLE:  Wednesday – Friday  11 AM – 1 PM  (Begins March 5th. Occasional exceptions may occur) \nTIMES:  4 SLOTS PER DAY – 30 minutes each: 11:00AM;  11:30AM; 12:00PM; 12:30PM \nCOST:  $40  Courtesy cancellation policy 24 hrs. in advance. \nAnne Bentzen is the owner of Balancing 4 Life and a authorized teacher with the Jikiden Reiki Institute of Kyoto\, Japan.  She is also an independent distributor for BEMER USA and a big advocate for the health benefits of BEMER.
URL:https://www.balancing4life.com/event/quick-lunch-reset-refresh-with-reiki-and-or-bemer-therapy/
LOCATION:Balancing 4 Life\, 495 Main Street\, Suite 205\, Armonk\, 10504\, United States
CATEGORIES:LUNCH RESET Refreshers
ATTACH;FMTTYPE=image/jpeg:https://www.balancing4life.com/wp-content/uploads/2025/02/brett-jordan-fswQZLlHC3Y-unsplash-scaled.avif
ORGANIZER;CN="Balancing 4 Life":MAILTO:balancing4lifeusa@gmail.com
END:VEVENT
BEGIN:VEVENT
DTSTART;TZID=UTC:20250305T110000
DTEND;TZID=UTC:20250305T130000
DTSTAMP:20260421T171927
CREATED:20250221T082837Z
LAST-MODIFIED:20250223T040106Z
UID:8097-1741172400-1741179600@www.balancing4life.com
SUMMARY:LUNCH RESET - Relax and Replenish your Energy
DESCRIPTION:WELCOME TO LUNCH RESET  \nLife is hectic and unpredictable these days! Give yourself a quick break during the week at lunchtime to experience deep relaxation.  RESET your nervous system for 30 minutes and return to work refreshed for the afternoon!   Your body\, mind and spirit will thank you for it!   \nCHOOSE: your “Pick-me-up” –  REIKI or BEMER Therapy or both with Anne Bentzen \nDAYS AVAILABLE:  Wednesday – Friday  11 AM – 1 PM  (Begins March 5th. Occasional exceptions may occur) \nTIMES:  4 SLOTS PER DAY – 30 minutes each: 11:00AM;  11:30AM; 12:00PM; 12:30PM \nCOST:  $40  Courtesy cancellation policy 24 hrs. in advance. \nAnne Bentzen is the owner of Balancing 4 Life and a authorized teacher with the Jikiden Reiki Institute of Kyoto\, Japan.  She is also an independent distributor for BEMER USA and a big advocate for the health benefits of BEMER.
URL:https://www.balancing4life.com/event/quick-lunch-reset-30-minute-refreshers-with-reiki-and-or-bemer-therapy/
LOCATION:Balancing 4 Life\, 495 Main Street\, Suite 205\, Armonk\, 10504\, United States
CATEGORIES:LUNCH RESET Refreshers
ATTACH;FMTTYPE=image/jpeg:https://www.balancing4life.com/wp-content/uploads/2025/02/brett-jordan-fswQZLlHC3Y-unsplash-scaled.avif
ORGANIZER;CN="Balancing 4 Life":MAILTO:balancing4lifeusa@gmail.com
END:VEVENT
END:VCALENDAR