BEGIN:VCALENDAR
VERSION:2.0
PRODID:-//Balancing 4 Life - ECPv6.15.20//NONSGML v1.0//EN
CALSCALE:GREGORIAN
METHOD:PUBLISH
X-ORIGINAL-URL:https://www.balancing4life.com
X-WR-CALDESC:Events for Balancing 4 Life
REFRESH-INTERVAL;VALUE=DURATION:PT1H
X-Robots-Tag:noindex
X-PUBLISHED-TTL:PT1H
BEGIN:VTIMEZONE
TZID:America/New_York
BEGIN:DAYLIGHT
TZOFFSETFROM:-0500
TZOFFSETTO:-0400
TZNAME:EDT
DTSTART:20250309T070000
END:DAYLIGHT
BEGIN:STANDARD
TZOFFSETFROM:-0400
TZOFFSETTO:-0500
TZNAME:EST
DTSTART:20251102T060000
END:STANDARD
BEGIN:DAYLIGHT
TZOFFSETFROM:-0500
TZOFFSETTO:-0400
TZNAME:EDT
DTSTART:20260308T070000
END:DAYLIGHT
BEGIN:STANDARD
TZOFFSETFROM:-0400
TZOFFSETTO:-0500
TZNAME:EST
DTSTART:20261101T060000
END:STANDARD
BEGIN:DAYLIGHT
TZOFFSETFROM:-0500
TZOFFSETTO:-0400
TZNAME:EDT
DTSTART:20270314T070000
END:DAYLIGHT
BEGIN:STANDARD
TZOFFSETFROM:-0400
TZOFFSETTO:-0500
TZNAME:EST
DTSTART:20271107T060000
END:STANDARD
END:VTIMEZONE
BEGIN:VEVENT
DTSTART;TZID=America/New_York:20260425T093000
DTEND;TZID=America/New_York:20260426T170000
DTSTAMP:20260421T162446
CREATED:20260209T221250Z
LAST-MODIFIED:20260209T221250Z
UID:9966-1777109400-1777222800@www.balancing4life.com
SUMMARY:Jikiden Reiki Level 1 Weekend Seminar April 25-26
DESCRIPTION:Welcome to the SpringJikiden Reiki Weekend Shoden seminar on APRIL 25th and 26th. This seminar is taught by Anne Bentzen\, Shihan teacher with the Jikiden Reiki Institute of Kyoto\, Japan. The Institute provides a standardized global curriculum and pricing for learning the direct hands-on Reiki physical treatment as it was originally taught in Japan. Students learn the most authentic Reiki history\, Reiki principles and how to feel energy. Supervised treatment sessions give students an opportunity to develop their sensitivity to energy and gain confidence. Students receive 3 Reiju and learn 1 shirushi and certificates in English and Japanese. \n\nPre-registration required. No Walk-ins.\nNEW STUDENT Full Tuition $350.00\nNEW Students Non-refundable $100 deposit required by April 22nd. Balance due the first day of class on April 25th.\n\n\nREVIEW Students $150 due by April 22nd\nQuestions\, contact Anne Bentzen directly: 914-588-4079.
URL:https://www.balancing4life.com/event/jikiden-reiki-level-1-weekend-seminar-april-25-26/
LOCATION:Balancing 4 Life\, 495 Main Street\, Suite 205\, Armonk\, 10504\, United States
CATEGORIES:JIKIDEN REIKI
ATTACH;FMTTYPE=image/jpeg:https://www.balancing4life.com/wp-content/uploads/2025/07/IMG_4994-rotated-1.avif
ORGANIZER;CN="Balancing 4 Life":MAILTO:balancing4lifeusa@gmail.com
END:VEVENT
END:VCALENDAR