BEGIN:VCALENDAR
VERSION:2.0
PRODID:-//Balancing 4 Life - ECPv6.15.20//NONSGML v1.0//EN
CALSCALE:GREGORIAN
METHOD:PUBLISH
X-ORIGINAL-URL:https://www.balancing4life.com
X-WR-CALDESC:Events for Balancing 4 Life
REFRESH-INTERVAL;VALUE=DURATION:PT1H
X-Robots-Tag:noindex
X-PUBLISHED-TTL:PT1H
BEGIN:VTIMEZONE
TZID:America/New_York
BEGIN:DAYLIGHT
TZOFFSETFROM:-0500
TZOFFSETTO:-0400
TZNAME:EDT
DTSTART:20250309T070000
END:DAYLIGHT
BEGIN:STANDARD
TZOFFSETFROM:-0400
TZOFFSETTO:-0500
TZNAME:EST
DTSTART:20251102T060000
END:STANDARD
BEGIN:DAYLIGHT
TZOFFSETFROM:-0500
TZOFFSETTO:-0400
TZNAME:EDT
DTSTART:20260308T070000
END:DAYLIGHT
BEGIN:STANDARD
TZOFFSETFROM:-0400
TZOFFSETTO:-0500
TZNAME:EST
DTSTART:20261101T060000
END:STANDARD
BEGIN:DAYLIGHT
TZOFFSETFROM:-0500
TZOFFSETTO:-0400
TZNAME:EDT
DTSTART:20270314T070000
END:DAYLIGHT
BEGIN:STANDARD
TZOFFSETFROM:-0400
TZOFFSETTO:-0500
TZNAME:EST
DTSTART:20271107T060000
END:STANDARD
END:VTIMEZONE
BEGIN:VEVENT
DTSTART;TZID=America/New_York:20260425T093000
DTEND;TZID=America/New_York:20260426T170000
DTSTAMP:20260421T160939
CREATED:20260209T221250Z
LAST-MODIFIED:20260209T221250Z
UID:9966-1777109400-1777222800@www.balancing4life.com
SUMMARY:Jikiden Reiki Level 1 Weekend Seminar April 25-26
DESCRIPTION:Welcome to the SpringJikiden Reiki Weekend Shoden seminar on APRIL 25th and 26th. This seminar is taught by Anne Bentzen\, Shihan teacher with the Jikiden Reiki Institute of Kyoto\, Japan. The Institute provides a standardized global curriculum and pricing for learning the direct hands-on Reiki physical treatment as it was originally taught in Japan. Students learn the most authentic Reiki history\, Reiki principles and how to feel energy. Supervised treatment sessions give students an opportunity to develop their sensitivity to energy and gain confidence. Students receive 3 Reiju and learn 1 shirushi and certificates in English and Japanese. \n\nPre-registration required. No Walk-ins.\nNEW STUDENT Full Tuition $350.00\nNEW Students Non-refundable $100 deposit required by April 22nd. Balance due the first day of class on April 25th.\n\n\nREVIEW Students $150 due by April 22nd\nQuestions\, contact Anne Bentzen directly: 914-588-4079.
URL:https://www.balancing4life.com/event/jikiden-reiki-level-1-weekend-seminar-april-25-26/
LOCATION:Balancing 4 Life\, 495 Main Street\, Suite 205\, Armonk\, 10504\, United States
CATEGORIES:JIKIDEN REIKI
ATTACH;FMTTYPE=image/jpeg:https://www.balancing4life.com/wp-content/uploads/2025/07/IMG_4994-rotated-1.avif
ORGANIZER;CN="Balancing 4 Life":MAILTO:balancing4lifeusa@gmail.com
END:VEVENT
BEGIN:VEVENT
DTSTART;TZID=America/New_York:20260502T100000
DTEND;TZID=America/New_York:20260502T170000
DTSTAMP:20260421T160939
CREATED:20260308T215845Z
LAST-MODIFIED:20260308T215845Z
UID:8757-1777716000-1777741200@www.balancing4life.com
SUMMARY:Jikiden Reiki Advanced Okuden Seminar
DESCRIPTION:Take your Jikiden Reiki practice to the next level. The Okuden seminar often referred to as Level 2 offers students the opportunity to work with more subtle energies with wo additional treatments.  Learn distance healing to aid friends and family anywhere in the world. This is invaluable for emergency situations and to support those who are hospitalized. The second healing technique is mental-emotional treatment to help clients release “bad habits” that are preventing them from living a more fulfilling life. \nStudents learn 2 new symbols and a mantra along with these advanced treatments. This is a full day seminar. minimum of 4 students required.  Cost: $400 for new students.  $150 for reviewing students.  All students must have completed Jikiden Reiki Shoden – Level 1.
URL:https://www.balancing4life.com/event/jikiden-reiki-advanced-okuden-seminar-2/
LOCATION:Balancing 4 Life\, 495 Main Street\, Suite 205\, Armonk\, 10504\, United States
CATEGORIES:JIKIDEN REIKI
ATTACH;FMTTYPE=image/jpeg:https://www.balancing4life.com/wp-content/uploads/2025/08/Anne-Bentzen-Head-Shot.avif
ORGANIZER;CN="Balancing 4 Life":MAILTO:balancing4lifeusa@gmail.com
END:VEVENT
BEGIN:VEVENT
DTSTART;TZID=America/New_York:20260517T130000
DTEND;TZID=America/New_York:20260517T160000
DTSTAMP:20260421T160939
CREATED:20260330T170238Z
LAST-MODIFIED:20260330T170238Z
UID:10425-1779022800-1779033600@www.balancing4life.com
SUMMARY:Jikiden Reiki Reiju-Kai for Students and Teachers
DESCRIPTION:Reiju-Kai is open to all Jikiden Reiki students and teachers.  It is an important aspect of your practice to help you maintain your ability to channel Reiki and improve your practice.  Reiju-Kai brings us together in community connecting with other Jikiden Reiki practitioners\, students and teachers. Share your experiences and insights with others.  Reiju-Kai is a gift you give yourself that will in turn be a blessing to others. \nRSVPs are required for this event \nLocation: Balancing 4 Life\, 495\, Main St.\, Ste. 205\, Armonk\, NY 10504 \nTime: 1 pm Reiju- followed by Jikiden Reiki Institute updates. Practice 2-4 pm \nCost: $30 \nInviting Guests: Please contact Anne if you would like to invite a guest to receive Reiki during the practice time.  Guests should arrive at 2 pm to receive Reiki during our practice time.  Guests will be welcomed as space is available depending on the number of students and tables. \nNOTE: Please let me know via email or text if you have a table you are able to bring if we have a large crowd. \nThank you. 914-588-4079
URL:https://www.balancing4life.com/event/jikiden-reiki-reiju-kai-for-students-and-teachers/
LOCATION:Balancing 4 Life\, 495 Main Street\, Suite 205\, Armonk\, 10504\, United States
CATEGORIES:JIKIDEN REIKI
ATTACH;FMTTYPE=image/png:https://www.balancing4life.com/wp-content/uploads/2023/01/Anne-B-Giving-Reiki-revised-237x300-1.png
ORGANIZER;CN="Balancing 4 Life":MAILTO:balancing4lifeusa@gmail.com
END:VEVENT
BEGIN:VEVENT
DTSTART;TZID=America/New_York:20260614T130000
DTEND;TZID=America/New_York:20260614T160000
DTSTAMP:20260421T160939
CREATED:20260330T170638Z
LAST-MODIFIED:20260330T170638Z
UID:10427-1781442000-1781452800@www.balancing4life.com
SUMMARY:Jikiden Reiki Reiju-Kai Student and Teachers
DESCRIPTION:Reiju-Kai is open to all Jikiden Reiki students and teachers.  It is an important aspect of your practice to help maintain your ability to channel Reiki and brings us together in community connecting with other Jikiden Reiki practitioners.  Share your experiences and insights with others.  Improve your practice.  Reiju-Kai is a gift you give yourself that will in turn be a blessing to others. \nRSVPs are requested for this event \nLocation: Balancing 4 Life\, 495\, Main St.\, Ste. 205\, Armonk\, NY 10504 \nTime: 1 pm Reiju- followed by Jikiden Reiki Institute updates. Practice 2-4 pm \nCost: $30 \nInviting Guests: Please contact Anne if you would like to invite a guest to receive Reiki during the practice time.  Guests should arrive at 2 pm to receive Reiki during our practice time.  Guests will be welcomed as space is available depending on the number of students and tables. \nNOTE: Please let me know via email or text if you have a table you are able to bring if we have a large crowd. Thank you. 914-588-4079
URL:https://www.balancing4life.com/event/jikiden-reiki-reiju-kai-student-and-teachers/
LOCATION:Balancing 4 Life\, 495 Main Street\, Suite 205\, Armonk\, 10504\, United States
CATEGORIES:JIKIDEN REIKI
ATTACH;FMTTYPE=image/png:https://www.balancing4life.com/wp-content/uploads/2023/01/Anne-B-Giving-Reiki-revised-237x300-1.png
ORGANIZER;CN="Balancing 4 Life":MAILTO:balancing4lifeusa@gmail.com
END:VEVENT
END:VCALENDAR