BEGIN:VCALENDAR
VERSION:2.0
PRODID:-//Balancing 4 Life - ECPv6.15.20//NONSGML v1.0//EN
CALSCALE:GREGORIAN
METHOD:PUBLISH
X-WR-CALNAME:Balancing 4 Life
X-ORIGINAL-URL:https://www.balancing4life.com
X-WR-CALDESC:Events for Balancing 4 Life
REFRESH-INTERVAL;VALUE=DURATION:PT1H
X-Robots-Tag:noindex
X-PUBLISHED-TTL:PT1H
BEGIN:VTIMEZONE
TZID:UTC
BEGIN:STANDARD
TZOFFSETFROM:+0000
TZOFFSETTO:+0000
TZNAME:UTC
DTSTART:20240101T000000
END:STANDARD
END:VTIMEZONE
BEGIN:VEVENT
DTSTART;TZID=UTC:20251115T093000
DTEND;TZID=UTC:20251116T170000
DTSTAMP:20260421T224939
CREATED:20250816T223812Z
LAST-MODIFIED:20251016T160151Z
UID:8989-1763199000-1763312400@www.balancing4life.com
SUMMARY:JIKIDEN REIKI SHODEN SEMINAR with Anne Bentzen\, Shihan
DESCRIPTION:Learn the original physical hands-on healing treatment with  Anne Bentzen\, a Shihan teacher with the Jikiden Reiki Institute of Kyoto\, Japan.  Students learn the most authentic Reiki history\, Reiki principles and how to feel energy. Supervised treatment sessions give students an opportunity to develop their sensitivity to energy and gain confidence. Students experience 3 Reiju\,  learn 1 Shirushi and receive certificates in both English and Japanese.  The Jikiden Reiki Institute provides a standardized global curriculum for learning the direct hands-on Reiki physical treatment just as it was originally taught in Japan over 100 years ago.  There is no western influence with these teachings. Learn about Japanese culture as Anne shares her experiences of Japan from her visit to Japan in 2024. \n\nPre-registration required. No Walk-ins. Tuition $350.00 for New Students.\nReviewing Student Tuition: $150.00\nNon-refundable $100 deposit is required by September 30th. Balance is due the first day of class Oct. 4th.\n Reviewing students or anyone with questions should contact Anne Bentzen directly at 914-588-4079.\nClass size limited to 6.  Early registration recommended.
URL:https://www.balancing4life.com/event/jikiden-reiki-shoden-seminar-with-anne-bentzen-shihan/
LOCATION:Balancing 4 Life\, 495 Main Street\, Suite 205\, Armonk\, 10504\, United States
CATEGORIES:JIKIDEN REIKI
ATTACH;FMTTYPE=image/jpeg:https://www.balancing4life.com/wp-content/uploads/2025/08/Anne-Bentzen-Head-Shot.avif
ORGANIZER;CN="Balancing 4 Life":MAILTO:balancing4lifeusa@gmail.com
END:VEVENT
END:VCALENDAR