BEGIN:VCALENDAR
VERSION:2.0
PRODID:-//Balancing 4 Life - ECPv6.15.20//NONSGML v1.0//EN
CALSCALE:GREGORIAN
METHOD:PUBLISH
X-WR-CALNAME:Balancing 4 Life
X-ORIGINAL-URL:https://www.balancing4life.com
X-WR-CALDESC:Events for Balancing 4 Life
REFRESH-INTERVAL;VALUE=DURATION:PT1H
X-Robots-Tag:noindex
X-PUBLISHED-TTL:PT1H
BEGIN:VTIMEZONE
TZID:UTC
BEGIN:STANDARD
TZOFFSETFROM:+0000
TZOFFSETTO:+0000
TZNAME:UTC
DTSTART:20240101T000000
END:STANDARD
END:VTIMEZONE
BEGIN:VEVENT
DTSTART;TZID=UTC:20250703T100000
DTEND;TZID=UTC:20250703T170000
DTSTAMP:20260422T023540
CREATED:20250610T061909Z
LAST-MODIFIED:20250610T061909Z
UID:8758-1751536800-1751562000@www.balancing4life.com
SUMMARY:Jikiden Reiki Advanced Okuden Seminar
DESCRIPTION:Take your Reiki skills and practice to the next level with OKUDEN!  Learn more about the Japanese cultural core and philosophy within Reiki as you learn two new shirushi and mantras for these advanced techniques.  Be available to offer treatments near and far with Enkaku\, distance healing. Help clients overcome self-sabotaging behaviors! \nPrerequisite:  Shoden \nCost:  New students – $400-  Reviewing students – $10
URL:https://www.balancing4life.com/event/jikiden-reiki-advanced-okuden-seminar/
LOCATION:Balancing 4 Life\, 495 Main Street\, Suite 205\, Armonk\, 10504\, United States
CATEGORIES:JIKIDEN REIKI
ATTACH;FMTTYPE=image/jpeg:https://www.balancing4life.com/wp-content/uploads/2024/07/IMG_4994-rotated.jpg
ORGANIZER;CN="Balancing 4 Life":MAILTO:balancing4lifeusa@gmail.com
END:VEVENT
END:VCALENDAR