BEGIN:VCALENDAR
VERSION:2.0
PRODID:-//Balancing 4 Life - ECPv6.15.20//NONSGML v1.0//EN
CALSCALE:GREGORIAN
METHOD:PUBLISH
X-ORIGINAL-URL:https://www.balancing4life.com
X-WR-CALDESC:Events for Balancing 4 Life
REFRESH-INTERVAL;VALUE=DURATION:PT1H
X-Robots-Tag:noindex
X-PUBLISHED-TTL:PT1H
BEGIN:VTIMEZONE
TZID:UTC
BEGIN:STANDARD
TZOFFSETFROM:+0000
TZOFFSETTO:+0000
TZNAME:UTC
DTSTART:20240101T000000
END:STANDARD
END:VTIMEZONE
BEGIN:VTIMEZONE
TZID:America/New_York
BEGIN:DAYLIGHT
TZOFFSETFROM:-0500
TZOFFSETTO:-0400
TZNAME:EDT
DTSTART:20240310T070000
END:DAYLIGHT
BEGIN:STANDARD
TZOFFSETFROM:-0400
TZOFFSETTO:-0500
TZNAME:EST
DTSTART:20241103T060000
END:STANDARD
BEGIN:DAYLIGHT
TZOFFSETFROM:-0500
TZOFFSETTO:-0400
TZNAME:EDT
DTSTART:20250309T070000
END:DAYLIGHT
BEGIN:STANDARD
TZOFFSETFROM:-0400
TZOFFSETTO:-0500
TZNAME:EST
DTSTART:20251102T060000
END:STANDARD
BEGIN:DAYLIGHT
TZOFFSETFROM:-0500
TZOFFSETTO:-0400
TZNAME:EDT
DTSTART:20260308T070000
END:DAYLIGHT
BEGIN:STANDARD
TZOFFSETFROM:-0400
TZOFFSETTO:-0500
TZNAME:EST
DTSTART:20261101T060000
END:STANDARD
END:VTIMEZONE
BEGIN:VEVENT
DTSTART;TZID=UTC:20250315T130000
DTEND;TZID=UTC:20250315T170000
DTSTAMP:20260422T165218
CREATED:20250205T231030Z
LAST-MODIFIED:20250205T231030Z
UID:7896-1742043600-1742058000@www.balancing4life.com
SUMMARY:Reiju-Kai for Jikiden Reiki Students & Teachers
DESCRIPTION:Reiju-Kai is open to all Jikiden Reiki students and teachers.  It is an important aspect of your practice to helps maintain your ability to channel Reiki.  Reiju-Kai brings Jikiden Reiki students and teachers together in community. make new friends. Connect with other Jikiden Reiki practitioners.  Share your experiences and insights with others.  Improve your practice.  Reiju-Kai is a gift you give yourself that will in turn be a blessing to others. \nTime:  Reiju begins at 1PM.  Supervised practice available afterwards until 5PM. Get updates from the JIkiden Reiki Instutute. \nRSVPs are requested for this event
URL:https://www.balancing4life.com/event/reiju-kai-for-jikiden-reiki-students-teachers/
LOCATION:Balancing 4 Life\, 495 Main Street\, Suite 205\, Armonk\, 10504\, United States
CATEGORIES:JIKIDEN REIKI
ATTACH;FMTTYPE=image/jpeg:https://www.balancing4life.com/wp-content/uploads/2023/10/IMG-5378-scaled.jpg
ORGANIZER;CN="Balancing 4 Life":MAILTO:balancing4lifeusa@gmail.com
END:VEVENT
BEGIN:VEVENT
DTSTART;TZID=America/New_York:20250329T093000
DTEND;TZID=America/New_York:20250330T160000
DTSTAMP:20260422T165218
CREATED:20250113T184525Z
LAST-MODIFIED:20250318T155608Z
UID:7654-1743240600-1743350400@www.balancing4life.com
SUMMARY:Advanced Jikiden Reiki Okuden Weekend Seminar with Shihan Anne Bentzen
DESCRIPTION:Anne Bentzen offers an advanced Okuden 1 1/2 day weekend seminar on March 29 & 30th for distance healing and a mental-emotional treatment. These invaluable treatments offer both opportunities for emergency treatment when in-person treatments are not possible and to address persistent unconsicious “habits”  that limit our ability to be in flow with the fullest expression of our soul Self. \nDay 1: Saturday\, March 29th 9:30am – 4 pm     Day 2: Sunday March 30th time is Noon – 5pm \nPrerequisite: Shoden \nCost: New students $400/ Reviewing students: $100
URL:https://www.balancing4life.com/event/advanced-jikiden-reiki-okuden-weekend-seminar-with-shihan-anne-bentzen/
LOCATION:Balancing 4 Life\, 495 Main Street\, Suite 205\, Armonk\, 10504\, United States
CATEGORIES:JIKIDEN REIKI
ATTACH;FMTTYPE=image/jpeg:https://www.balancing4life.com/wp-content/uploads/2024/04/1620337384375.jpeg
ORGANIZER;CN="Balancing 4 Life":MAILTO:balancing4lifeusa@gmail.com
END:VEVENT
END:VCALENDAR