BEGIN:VCALENDAR
VERSION:2.0
PRODID:-//Balancing 4 Life - ECPv6.15.20//NONSGML v1.0//EN
CALSCALE:GREGORIAN
METHOD:PUBLISH
X-WR-CALNAME:Balancing 4 Life
X-ORIGINAL-URL:https://www.balancing4life.com
X-WR-CALDESC:Events for Balancing 4 Life
REFRESH-INTERVAL;VALUE=DURATION:PT1H
X-Robots-Tag:noindex
X-PUBLISHED-TTL:PT1H
BEGIN:VTIMEZONE
TZID:America/New_York
BEGIN:DAYLIGHT
TZOFFSETFROM:-0500
TZOFFSETTO:-0400
TZNAME:EDT
DTSTART:20240310T070000
END:DAYLIGHT
BEGIN:STANDARD
TZOFFSETFROM:-0400
TZOFFSETTO:-0500
TZNAME:EST
DTSTART:20241103T060000
END:STANDARD
BEGIN:DAYLIGHT
TZOFFSETFROM:-0500
TZOFFSETTO:-0400
TZNAME:EDT
DTSTART:20250309T070000
END:DAYLIGHT
BEGIN:STANDARD
TZOFFSETFROM:-0400
TZOFFSETTO:-0500
TZNAME:EST
DTSTART:20251102T060000
END:STANDARD
BEGIN:DAYLIGHT
TZOFFSETFROM:-0500
TZOFFSETTO:-0400
TZNAME:EDT
DTSTART:20260308T070000
END:DAYLIGHT
BEGIN:STANDARD
TZOFFSETFROM:-0400
TZOFFSETTO:-0500
TZNAME:EST
DTSTART:20261101T060000
END:STANDARD
END:VTIMEZONE
BEGIN:VEVENT
DTSTART;TZID=America/New_York:20251109T130000
DTEND;TZID=America/New_York:20251109T150000
DTSTAMP:20260421T211028
CREATED:20250907T120525Z
LAST-MODIFIED:20251018T174650Z
UID:9153-1762693200-1762700400@www.balancing4life.com
SUMMARY:Voices of the Outer Planets with Nancy Volante\, Astrologer
DESCRIPTION:Join a powerful four-part journey guided by the voices of Saturn\, Neptune\, Uranus\, and Pluto—archetypal forces shaping both our inner world and collective destiny. Through ritual\, journaling\, embodiment\, and deep reflection\, we will connect with each planet as a teacher during these critical times.  This is a space for seekers\, healers\, creatives\, and changemakers ready for profound transformation. \nPart 1: Explore Saturn’s structure Nov. 9th\, Part 2: Neptune’s dreams January 11th\, Part 3: Uranus’s awakening Feb. 1st and Part 4: Pluto’s alchemy March 1st. on emerging with clarity\, courage\, and a renewed connection to your soul’s truth and authenticity.  All programs include guided meditations\, journaling\, movement\, and a ritual for each of the planets. Bring your birth chart information: date\, time and location and Nancy will help you understand how these planets influence you! \nAll programs are from 1-3pm in person at Balancing 4 Life. $45 each or participate in the entire series for $135. \nShort Bio:\nNancy Volante is a Humanist Astrologer and Wellness Coach\, dedicated to helping clients align with their True North through Astrology Wellness Coaching. With more than fifteen years of experience as a teaching artist in New York City schools\, along with a lifelong practice of yoga and dance\, she brings a holistic understanding of body\, mind\, and spirit to her work. Through her practice\, The Whispering Soul\, Nancy offers compassionate guidance for self-discovery\, clarity\, and living with authenticity and purpose. Whether navigating a life transition\, seeking direction\, or simply curious about what the stars say about your path\, The Whispering Soul offers a supportive space to explore and align in mind\, body and soul.                                                                                                              Learn more about Nancy and her astrology offerings at her website\, www.thewhisperingsoul.net \n 
URL:https://www.balancing4life.com/event/voices-of-the-outer-planets-with-nancy-volante-astrologer/
LOCATION:Balancing 4 Life\, 495 Main Street\, Suite 205\, Armonk\, 10504\, United States
CATEGORIES:Astrology
ATTACH;FMTTYPE=image/png:https://www.balancing4life.com/wp-content/uploads/2025/09/Voices-of-the-Outer-Planets-Saturn.avif
ORGANIZER;CN="Balancing 4 Life":MAILTO:balancing4lifeusa@gmail.com
END:VEVENT
END:VCALENDAR